BEGIN:VCALENDAR
VERSION:2.0
PRODID:-//TeeBox Indoor Golf &amp; Fitness - ECPv6.6.4.2//NONSGML v1.0//EN
CALSCALE:GREGORIAN
METHOD:PUBLISH
X-WR-CALNAME:TeeBox Indoor Golf &amp; Fitness
X-ORIGINAL-URL:https://teebox.club
X-WR-CALDESC:Events for TeeBox Indoor Golf &amp; Fitness
REFRESH-INTERVAL;VALUE=DURATION:PT1H
X-Robots-Tag:noindex
X-PUBLISHED-TTL:PT1H
BEGIN:VTIMEZONE
TZID:America/Phoenix
BEGIN:STANDARD
TZOFFSETFROM:-0700
TZOFFSETTO:-0700
TZNAME:MST
DTSTART:20260101T000000
END:STANDARD
END:VTIMEZONE
BEGIN:VEVENT
DTSTART;VALUE=DATE:20260423
DTEND;VALUE=DATE:20260424
DTSTAMP:20260423T023736
CREATED:20260408T232331Z
LAST-MODIFIED:20260423T000244Z
UID:10002680-1776902400-1776988799@teebox.club
SUMMARY:Thursday — Twisted Tea Thursday
DESCRIPTION:$5 Twisted Tea bottles\n$2 off chicken strips & fries
URL:https://teebox.club/event/thursday-twisted-tea-thursday/2026-04-23/
LOCATION:TeeBox Indoor Golf Club\, 7100 E Cave Creek Rd Building R5\, Cave Creek\, AZ\, 85331\, United States
CATEGORIES:TeeBox Daily Specials
ORGANIZER;CN="TeeBox Indoor Golf Club":MAILTO:info@teebox.club
END:VEVENT
BEGIN:VEVENT
DTSTART;VALUE=DATE:20260424
DTEND;VALUE=DATE:20260425
DTSTAMP:20260423T023736
CREATED:20260408T232350Z
LAST-MODIFIED:20260423T000200Z
UID:10002626-1776988800-1777075199@teebox.club
SUMMARY:Friday — IPA Friday
DESCRIPTION:$2 off IPA drafts\n$2 off burger menu
URL:https://teebox.club/event/friday-ipa-friday/2026-04-24/
LOCATION:TeeBox Indoor Golf Club\, 7100 E Cave Creek Rd Building R5\, Cave Creek\, AZ\, 85331\, United States
CATEGORIES:TeeBox Daily Specials
ORGANIZER;CN="TeeBox Indoor Golf Club":MAILTO:info@teebox.club
END:VEVENT
BEGIN:VEVENT
DTSTART;VALUE=DATE:20260425
DTEND;VALUE=DATE:20260426
DTSTAMP:20260423T023736
CREATED:20260408T232410Z
LAST-MODIFIED:20260423T000119Z
UID:10002572-1777075200-1777161599@teebox.club
SUMMARY:Saturday — Sippin’ Saturday
DESCRIPTION:$2 off TeeBox craft cocktails\n$2 off quesadilla
URL:https://teebox.club/event/saturday-sippin-saturday/2026-04-25/
LOCATION:TeeBox Indoor Golf Club\, 7100 E Cave Creek Rd Building R5\, Cave Creek\, AZ\, 85331\, United States
CATEGORIES:TeeBox Daily Specials
ORGANIZER;CN="TeeBox Indoor Golf Club":MAILTO:info@teebox.club
END:VEVENT
BEGIN:VEVENT
DTSTART;VALUE=DATE:20260426
DTEND;VALUE=DATE:20260427
DTSTAMP:20260423T023736
CREATED:20260408T232429Z
LAST-MODIFIED:20260423T000054Z
UID:10002518-1777161600-1777247999@teebox.club
SUMMARY:Sunday — Sky Bloody Sunday
DESCRIPTION:$2 off Skyy Bloody Marys\n$2 off Reuben & grilled cheese
URL:https://teebox.club/event/sunday-sky-bloody-sunday/2026-04-26/
LOCATION:TeeBox Indoor Golf Club\, 7100 E Cave Creek Rd Building R5\, Cave Creek\, AZ\, 85331\, United States
CATEGORIES:TeeBox Daily Specials
ORGANIZER;CN="TeeBox Indoor Golf Club":MAILTO:info@teebox.club
END:VEVENT
BEGIN:VEVENT
DTSTART;VALUE=DATE:20260427
DTEND;VALUE=DATE:20260428
DTSTAMP:20260423T023736
CREATED:20260408T232228Z
LAST-MODIFIED:20260423T000406Z
UID:10002843-1777248000-1777334399@teebox.club
SUMMARY:Monday — Margarita Monday
DESCRIPTION:$2 off margaritas
URL:https://teebox.club/event/monday-margarita-monday/2026-04-27/
LOCATION:TeeBox Indoor Golf Club\, 7100 E Cave Creek Rd Building R5\, Cave Creek\, AZ\, 85331\, United States
CATEGORIES:TeeBox Daily Specials
ORGANIZER;CN="TeeBox Indoor Golf Club":MAILTO:info@teebox.club
END:VEVENT
BEGIN:VEVENT
DTSTART;VALUE=DATE:20260428
DTEND;VALUE=DATE:20260429
DTSTAMP:20260423T023736
CREATED:20260408T232248Z
LAST-MODIFIED:20260423T000341Z
UID:10002789-1777334400-1777420799@teebox.club
SUMMARY:Tuesday — Tito’s Tuesday
DESCRIPTION:$2 off Tito’s cocktails\n$2 off nachos & wings
URL:https://teebox.club/event/tuesday-titos-tuesday/2026-04-28/
LOCATION:TeeBox Indoor Golf Club\, 7100 E Cave Creek Rd Building R5\, Cave Creek\, AZ\, 85331\, United States
CATEGORIES:TeeBox Daily Specials
ORGANIZER;CN="TeeBox Indoor Golf Club":MAILTO:info@teebox.club
END:VEVENT
BEGIN:VEVENT
DTSTART;VALUE=DATE:20260429
DTEND;VALUE=DATE:20260430
DTSTAMP:20260423T023736
CREATED:20260408T232311Z
LAST-MODIFIED:20260423T000317Z
UID:10002735-1777420800-1777507199@teebox.club
SUMMARY:Wednesday — Wine Wednesday
DESCRIPTION:$2 off house wine drafts\n$2 off pizza
URL:https://teebox.club/event/wednesday-wine-wednesday/2026-04-29/
LOCATION:TeeBox Indoor Golf Club\, 7100 E Cave Creek Rd Building R5\, Cave Creek\, AZ\, 85331\, United States
CATEGORIES:TeeBox Daily Specials
ORGANIZER;CN="TeeBox Indoor Golf Club":MAILTO:info@teebox.club
END:VEVENT
BEGIN:VEVENT
DTSTART;VALUE=DATE:20260430
DTEND;VALUE=DATE:20260501
DTSTAMP:20260423T023736
CREATED:20260408T232331Z
LAST-MODIFIED:20260423T000244Z
UID:10002681-1777507200-1777593599@teebox.club
SUMMARY:Thursday — Twisted Tea Thursday
DESCRIPTION:$5 Twisted Tea bottles\n$2 off chicken strips & fries
URL:https://teebox.club/event/thursday-twisted-tea-thursday/2026-04-30/
LOCATION:TeeBox Indoor Golf Club\, 7100 E Cave Creek Rd Building R5\, Cave Creek\, AZ\, 85331\, United States
CATEGORIES:TeeBox Daily Specials
ORGANIZER;CN="TeeBox Indoor Golf Club":MAILTO:info@teebox.club
END:VEVENT
BEGIN:VEVENT
DTSTART;VALUE=DATE:20260501
DTEND;VALUE=DATE:20260502
DTSTAMP:20260423T023736
CREATED:20260408T232350Z
LAST-MODIFIED:20260423T000200Z
UID:10002627-1777593600-1777679999@teebox.club
SUMMARY:Friday — IPA Friday
DESCRIPTION:$2 off IPA drafts\n$2 off burger menu
URL:https://teebox.club/event/friday-ipa-friday/2026-05-01/
LOCATION:TeeBox Indoor Golf Club\, 7100 E Cave Creek Rd Building R5\, Cave Creek\, AZ\, 85331\, United States
CATEGORIES:TeeBox Daily Specials
ORGANIZER;CN="TeeBox Indoor Golf Club":MAILTO:info@teebox.club
END:VEVENT
BEGIN:VEVENT
DTSTART;VALUE=DATE:20260502
DTEND;VALUE=DATE:20260503
DTSTAMP:20260423T023736
CREATED:20260408T232410Z
LAST-MODIFIED:20260423T000119Z
UID:10002573-1777680000-1777766399@teebox.club
SUMMARY:Saturday — Sippin’ Saturday
DESCRIPTION:$2 off TeeBox craft cocktails\n$2 off quesadilla
URL:https://teebox.club/event/saturday-sippin-saturday/2026-05-02/
LOCATION:TeeBox Indoor Golf Club\, 7100 E Cave Creek Rd Building R5\, Cave Creek\, AZ\, 85331\, United States
CATEGORIES:TeeBox Daily Specials
ORGANIZER;CN="TeeBox Indoor Golf Club":MAILTO:info@teebox.club
END:VEVENT
BEGIN:VEVENT
DTSTART;VALUE=DATE:20260503
DTEND;VALUE=DATE:20260504
DTSTAMP:20260423T023736
CREATED:20260408T232429Z
LAST-MODIFIED:20260423T000054Z
UID:10002519-1777766400-1777852799@teebox.club
SUMMARY:Sunday — Sky Bloody Sunday
DESCRIPTION:$2 off Skyy Bloody Marys\n$2 off Reuben & grilled cheese
URL:https://teebox.club/event/sunday-sky-bloody-sunday/2026-05-03/
LOCATION:TeeBox Indoor Golf Club\, 7100 E Cave Creek Rd Building R5\, Cave Creek\, AZ\, 85331\, United States
CATEGORIES:TeeBox Daily Specials
ORGANIZER;CN="TeeBox Indoor Golf Club":MAILTO:info@teebox.club
END:VEVENT
BEGIN:VEVENT
DTSTART;VALUE=DATE:20260504
DTEND;VALUE=DATE:20260505
DTSTAMP:20260423T023736
CREATED:20260408T232228Z
LAST-MODIFIED:20260423T000406Z
UID:10002844-1777852800-1777939199@teebox.club
SUMMARY:Monday — Margarita Monday
DESCRIPTION:$2 off margaritas
URL:https://teebox.club/event/monday-margarita-monday/2026-05-04/
LOCATION:TeeBox Indoor Golf Club\, 7100 E Cave Creek Rd Building R5\, Cave Creek\, AZ\, 85331\, United States
CATEGORIES:TeeBox Daily Specials
ORGANIZER;CN="TeeBox Indoor Golf Club":MAILTO:info@teebox.club
END:VEVENT
BEGIN:VEVENT
DTSTART;VALUE=DATE:20260505
DTEND;VALUE=DATE:20260506
DTSTAMP:20260423T023736
CREATED:20260408T232248Z
LAST-MODIFIED:20260423T000341Z
UID:10002790-1777939200-1778025599@teebox.club
SUMMARY:Tuesday — Tito’s Tuesday
DESCRIPTION:$2 off Tito’s cocktails\n$2 off nachos & wings
URL:https://teebox.club/event/tuesday-titos-tuesday/2026-05-05/
LOCATION:TeeBox Indoor Golf Club\, 7100 E Cave Creek Rd Building R5\, Cave Creek\, AZ\, 85331\, United States
CATEGORIES:TeeBox Daily Specials
ORGANIZER;CN="TeeBox Indoor Golf Club":MAILTO:info@teebox.club
END:VEVENT
BEGIN:VEVENT
DTSTART;VALUE=DATE:20260506
DTEND;VALUE=DATE:20260507
DTSTAMP:20260423T023736
CREATED:20260408T232311Z
LAST-MODIFIED:20260423T000317Z
UID:10002736-1778025600-1778111999@teebox.club
SUMMARY:Wednesday — Wine Wednesday
DESCRIPTION:$2 off house wine drafts\n$2 off pizza
URL:https://teebox.club/event/wednesday-wine-wednesday/2026-05-06/
LOCATION:TeeBox Indoor Golf Club\, 7100 E Cave Creek Rd Building R5\, Cave Creek\, AZ\, 85331\, United States
CATEGORIES:TeeBox Daily Specials
ORGANIZER;CN="TeeBox Indoor Golf Club":MAILTO:info@teebox.club
END:VEVENT
BEGIN:VEVENT
DTSTART;VALUE=DATE:20260507
DTEND;VALUE=DATE:20260508
DTSTAMP:20260423T023736
CREATED:20260408T232331Z
LAST-MODIFIED:20260423T000244Z
UID:10002682-1778112000-1778198399@teebox.club
SUMMARY:Thursday — Twisted Tea Thursday
DESCRIPTION:$5 Twisted Tea bottles\n$2 off chicken strips & fries
URL:https://teebox.club/event/thursday-twisted-tea-thursday/2026-05-07/
LOCATION:TeeBox Indoor Golf Club\, 7100 E Cave Creek Rd Building R5\, Cave Creek\, AZ\, 85331\, United States
CATEGORIES:TeeBox Daily Specials
ORGANIZER;CN="TeeBox Indoor Golf Club":MAILTO:info@teebox.club
END:VEVENT
BEGIN:VEVENT
DTSTART;VALUE=DATE:20260508
DTEND;VALUE=DATE:20260509
DTSTAMP:20260423T023736
CREATED:20260408T232350Z
LAST-MODIFIED:20260423T000200Z
UID:10002628-1778198400-1778284799@teebox.club
SUMMARY:Friday — IPA Friday
DESCRIPTION:$2 off IPA drafts\n$2 off burger menu
URL:https://teebox.club/event/friday-ipa-friday/2026-05-08/
LOCATION:TeeBox Indoor Golf Club\, 7100 E Cave Creek Rd Building R5\, Cave Creek\, AZ\, 85331\, United States
CATEGORIES:TeeBox Daily Specials
ORGANIZER;CN="TeeBox Indoor Golf Club":MAILTO:info@teebox.club
END:VEVENT
BEGIN:VEVENT
DTSTART;VALUE=DATE:20260509
DTEND;VALUE=DATE:20260510
DTSTAMP:20260423T023736
CREATED:20260408T232410Z
LAST-MODIFIED:20260423T000119Z
UID:10002574-1778284800-1778371199@teebox.club
SUMMARY:Saturday — Sippin’ Saturday
DESCRIPTION:$2 off TeeBox craft cocktails\n$2 off quesadilla
URL:https://teebox.club/event/saturday-sippin-saturday/2026-05-09/
LOCATION:TeeBox Indoor Golf Club\, 7100 E Cave Creek Rd Building R5\, Cave Creek\, AZ\, 85331\, United States
CATEGORIES:TeeBox Daily Specials
ORGANIZER;CN="TeeBox Indoor Golf Club":MAILTO:info@teebox.club
END:VEVENT
BEGIN:VEVENT
DTSTART;VALUE=DATE:20260510
DTEND;VALUE=DATE:20260511
DTSTAMP:20260423T023736
CREATED:20260408T232429Z
LAST-MODIFIED:20260423T000054Z
UID:10002520-1778371200-1778457599@teebox.club
SUMMARY:Sunday — Sky Bloody Sunday
DESCRIPTION:$2 off Skyy Bloody Marys\n$2 off Reuben & grilled cheese
URL:https://teebox.club/event/sunday-sky-bloody-sunday/2026-05-10/
LOCATION:TeeBox Indoor Golf Club\, 7100 E Cave Creek Rd Building R5\, Cave Creek\, AZ\, 85331\, United States
CATEGORIES:TeeBox Daily Specials
ORGANIZER;CN="TeeBox Indoor Golf Club":MAILTO:info@teebox.club
END:VEVENT
BEGIN:VEVENT
DTSTART;VALUE=DATE:20260511
DTEND;VALUE=DATE:20260512
DTSTAMP:20260423T023736
CREATED:20260408T232228Z
LAST-MODIFIED:20260423T000406Z
UID:10002845-1778457600-1778543999@teebox.club
SUMMARY:Monday — Margarita Monday
DESCRIPTION:$2 off margaritas
URL:https://teebox.club/event/monday-margarita-monday/2026-05-11/
LOCATION:TeeBox Indoor Golf Club\, 7100 E Cave Creek Rd Building R5\, Cave Creek\, AZ\, 85331\, United States
CATEGORIES:TeeBox Daily Specials
ORGANIZER;CN="TeeBox Indoor Golf Club":MAILTO:info@teebox.club
END:VEVENT
BEGIN:VEVENT
DTSTART;VALUE=DATE:20260512
DTEND;VALUE=DATE:20260513
DTSTAMP:20260423T023737
CREATED:20260408T232248Z
LAST-MODIFIED:20260423T000341Z
UID:10002791-1778544000-1778630399@teebox.club
SUMMARY:Tuesday — Tito’s Tuesday
DESCRIPTION:$2 off Tito’s cocktails\n$2 off nachos & wings
URL:https://teebox.club/event/tuesday-titos-tuesday/2026-05-12/
LOCATION:TeeBox Indoor Golf Club\, 7100 E Cave Creek Rd Building R5\, Cave Creek\, AZ\, 85331\, United States
CATEGORIES:TeeBox Daily Specials
ORGANIZER;CN="TeeBox Indoor Golf Club":MAILTO:info@teebox.club
END:VEVENT
BEGIN:VEVENT
DTSTART;VALUE=DATE:20260513
DTEND;VALUE=DATE:20260514
DTSTAMP:20260423T023737
CREATED:20260408T232311Z
LAST-MODIFIED:20260423T000317Z
UID:10002737-1778630400-1778716799@teebox.club
SUMMARY:Wednesday — Wine Wednesday
DESCRIPTION:$2 off house wine drafts\n$2 off pizza
URL:https://teebox.club/event/wednesday-wine-wednesday/2026-05-13/
LOCATION:TeeBox Indoor Golf Club\, 7100 E Cave Creek Rd Building R5\, Cave Creek\, AZ\, 85331\, United States
CATEGORIES:TeeBox Daily Specials
ORGANIZER;CN="TeeBox Indoor Golf Club":MAILTO:info@teebox.club
END:VEVENT
BEGIN:VEVENT
DTSTART;VALUE=DATE:20260514
DTEND;VALUE=DATE:20260515
DTSTAMP:20260423T023737
CREATED:20260408T232331Z
LAST-MODIFIED:20260423T000244Z
UID:10002683-1778716800-1778803199@teebox.club
SUMMARY:Thursday — Twisted Tea Thursday
DESCRIPTION:$5 Twisted Tea bottles\n$2 off chicken strips & fries
URL:https://teebox.club/event/thursday-twisted-tea-thursday/2026-05-14/
LOCATION:TeeBox Indoor Golf Club\, 7100 E Cave Creek Rd Building R5\, Cave Creek\, AZ\, 85331\, United States
CATEGORIES:TeeBox Daily Specials
ORGANIZER;CN="TeeBox Indoor Golf Club":MAILTO:info@teebox.club
END:VEVENT
BEGIN:VEVENT
DTSTART;VALUE=DATE:20260515
DTEND;VALUE=DATE:20260516
DTSTAMP:20260423T023737
CREATED:20260408T232350Z
LAST-MODIFIED:20260423T000200Z
UID:10002629-1778803200-1778889599@teebox.club
SUMMARY:Friday — IPA Friday
DESCRIPTION:$2 off IPA drafts\n$2 off burger menu
URL:https://teebox.club/event/friday-ipa-friday/2026-05-15/
LOCATION:TeeBox Indoor Golf Club\, 7100 E Cave Creek Rd Building R5\, Cave Creek\, AZ\, 85331\, United States
CATEGORIES:TeeBox Daily Specials
ORGANIZER;CN="TeeBox Indoor Golf Club":MAILTO:info@teebox.club
END:VEVENT
BEGIN:VEVENT
DTSTART;VALUE=DATE:20260516
DTEND;VALUE=DATE:20260517
DTSTAMP:20260423T023737
CREATED:20260408T232410Z
LAST-MODIFIED:20260423T000119Z
UID:10002575-1778889600-1778975999@teebox.club
SUMMARY:Saturday — Sippin’ Saturday
DESCRIPTION:$2 off TeeBox craft cocktails\n$2 off quesadilla
URL:https://teebox.club/event/saturday-sippin-saturday/2026-05-16/
LOCATION:TeeBox Indoor Golf Club\, 7100 E Cave Creek Rd Building R5\, Cave Creek\, AZ\, 85331\, United States
CATEGORIES:TeeBox Daily Specials
ORGANIZER;CN="TeeBox Indoor Golf Club":MAILTO:info@teebox.club
END:VEVENT
BEGIN:VEVENT
DTSTART;VALUE=DATE:20260517
DTEND;VALUE=DATE:20260518
DTSTAMP:20260423T023737
CREATED:20260408T232429Z
LAST-MODIFIED:20260423T000054Z
UID:10002521-1778976000-1779062399@teebox.club
SUMMARY:Sunday — Sky Bloody Sunday
DESCRIPTION:$2 off Skyy Bloody Marys\n$2 off Reuben & grilled cheese
URL:https://teebox.club/event/sunday-sky-bloody-sunday/2026-05-17/
LOCATION:TeeBox Indoor Golf Club\, 7100 E Cave Creek Rd Building R5\, Cave Creek\, AZ\, 85331\, United States
CATEGORIES:TeeBox Daily Specials
ORGANIZER;CN="TeeBox Indoor Golf Club":MAILTO:info@teebox.club
END:VEVENT
BEGIN:VEVENT
DTSTART;VALUE=DATE:20260518
DTEND;VALUE=DATE:20260519
DTSTAMP:20260423T023737
CREATED:20260408T232228Z
LAST-MODIFIED:20260423T000406Z
UID:10002846-1779062400-1779148799@teebox.club
SUMMARY:Monday — Margarita Monday
DESCRIPTION:$2 off margaritas
URL:https://teebox.club/event/monday-margarita-monday/2026-05-18/
LOCATION:TeeBox Indoor Golf Club\, 7100 E Cave Creek Rd Building R5\, Cave Creek\, AZ\, 85331\, United States
CATEGORIES:TeeBox Daily Specials
ORGANIZER;CN="TeeBox Indoor Golf Club":MAILTO:info@teebox.club
END:VEVENT
BEGIN:VEVENT
DTSTART;VALUE=DATE:20260519
DTEND;VALUE=DATE:20260520
DTSTAMP:20260423T023737
CREATED:20260408T232248Z
LAST-MODIFIED:20260423T000341Z
UID:10002792-1779148800-1779235199@teebox.club
SUMMARY:Tuesday — Tito’s Tuesday
DESCRIPTION:$2 off Tito’s cocktails\n$2 off nachos & wings
URL:https://teebox.club/event/tuesday-titos-tuesday/2026-05-19/
LOCATION:TeeBox Indoor Golf Club\, 7100 E Cave Creek Rd Building R5\, Cave Creek\, AZ\, 85331\, United States
CATEGORIES:TeeBox Daily Specials
ORGANIZER;CN="TeeBox Indoor Golf Club":MAILTO:info@teebox.club
END:VEVENT
BEGIN:VEVENT
DTSTART;VALUE=DATE:20260520
DTEND;VALUE=DATE:20260521
DTSTAMP:20260423T023737
CREATED:20260408T232311Z
LAST-MODIFIED:20260423T000317Z
UID:10002738-1779235200-1779321599@teebox.club
SUMMARY:Wednesday — Wine Wednesday
DESCRIPTION:$2 off house wine drafts\n$2 off pizza
URL:https://teebox.club/event/wednesday-wine-wednesday/2026-05-20/
LOCATION:TeeBox Indoor Golf Club\, 7100 E Cave Creek Rd Building R5\, Cave Creek\, AZ\, 85331\, United States
CATEGORIES:TeeBox Daily Specials
ORGANIZER;CN="TeeBox Indoor Golf Club":MAILTO:info@teebox.club
END:VEVENT
BEGIN:VEVENT
DTSTART;VALUE=DATE:20260521
DTEND;VALUE=DATE:20260522
DTSTAMP:20260423T023737
CREATED:20260408T232331Z
LAST-MODIFIED:20260423T000244Z
UID:10002684-1779321600-1779407999@teebox.club
SUMMARY:Thursday — Twisted Tea Thursday
DESCRIPTION:$5 Twisted Tea bottles\n$2 off chicken strips & fries
URL:https://teebox.club/event/thursday-twisted-tea-thursday/2026-05-21/
LOCATION:TeeBox Indoor Golf Club\, 7100 E Cave Creek Rd Building R5\, Cave Creek\, AZ\, 85331\, United States
CATEGORIES:TeeBox Daily Specials
ORGANIZER;CN="TeeBox Indoor Golf Club":MAILTO:info@teebox.club
END:VEVENT
BEGIN:VEVENT
DTSTART;VALUE=DATE:20260522
DTEND;VALUE=DATE:20260523
DTSTAMP:20260423T023737
CREATED:20260408T232350Z
LAST-MODIFIED:20260423T000200Z
UID:10002630-1779408000-1779494399@teebox.club
SUMMARY:Friday — IPA Friday
DESCRIPTION:$2 off IPA drafts\n$2 off burger menu
URL:https://teebox.club/event/friday-ipa-friday/2026-05-22/
LOCATION:TeeBox Indoor Golf Club\, 7100 E Cave Creek Rd Building R5\, Cave Creek\, AZ\, 85331\, United States
CATEGORIES:TeeBox Daily Specials
ORGANIZER;CN="TeeBox Indoor Golf Club":MAILTO:info@teebox.club
END:VEVENT
END:VCALENDAR