BEGIN:VCALENDAR
VERSION:2.0
PRODID:-//TeeBox Indoor Golf &amp; Fitness - ECPv6.6.4.2//NONSGML v1.0//EN
CALSCALE:GREGORIAN
METHOD:PUBLISH
X-WR-CALNAME:TeeBox Indoor Golf &amp; Fitness
X-ORIGINAL-URL:https://teebox.club
X-WR-CALDESC:Events for TeeBox Indoor Golf &amp; Fitness
REFRESH-INTERVAL;VALUE=DURATION:PT1H
X-Robots-Tag:noindex
X-PUBLISHED-TTL:PT1H
BEGIN:VTIMEZONE
TZID:America/Phoenix
BEGIN:STANDARD
TZOFFSETFROM:-0700
TZOFFSETTO:-0700
TZNAME:MST
DTSTART:20270101T000000
END:STANDARD
END:VTIMEZONE
BEGIN:VEVENT
DTSTART;VALUE=DATE:20270205
DTEND;VALUE=DATE:20270206
DTSTAMP:20260425T085434
CREATED:20260408T232350Z
LAST-MODIFIED:20260423T000200Z
UID:10002667-1801785600-1801871999@teebox.club
SUMMARY:Friday — IPA Friday
DESCRIPTION:$2 off IPA drafts\n$2 off burger menu
URL:https://teebox.club/event/friday-ipa-friday/2027-02-05/
LOCATION:TeeBox Indoor Golf Club\, 7100 E Cave Creek Rd Building R5\, Cave Creek\, AZ\, 85331\, United States
CATEGORIES:TeeBox Daily Specials
ORGANIZER;CN="TeeBox Indoor Golf Club":MAILTO:info@teebox.club
END:VEVENT
BEGIN:VEVENT
DTSTART;VALUE=DATE:20270206
DTEND;VALUE=DATE:20270207
DTSTAMP:20260425T085434
CREATED:20260408T232410Z
LAST-MODIFIED:20260423T000119Z
UID:10002613-1801872000-1801958399@teebox.club
SUMMARY:Saturday — Sippin’ Saturday
DESCRIPTION:$2 off TeeBox craft cocktails\n$2 off quesadilla
URL:https://teebox.club/event/saturday-sippin-saturday/2027-02-06/
LOCATION:TeeBox Indoor Golf Club\, 7100 E Cave Creek Rd Building R5\, Cave Creek\, AZ\, 85331\, United States
CATEGORIES:TeeBox Daily Specials
ORGANIZER;CN="TeeBox Indoor Golf Club":MAILTO:info@teebox.club
END:VEVENT
BEGIN:VEVENT
DTSTART;VALUE=DATE:20270207
DTEND;VALUE=DATE:20270208
DTSTAMP:20260425T085434
CREATED:20260408T232429Z
LAST-MODIFIED:20260423T000054Z
UID:10002559-1801958400-1802044799@teebox.club
SUMMARY:Sunday — Sky Bloody Sunday
DESCRIPTION:$2 off Skyy Bloody Marys\n$2 off Reuben & grilled cheese
URL:https://teebox.club/event/sunday-sky-bloody-sunday/2027-02-07/
LOCATION:TeeBox Indoor Golf Club\, 7100 E Cave Creek Rd Building R5\, Cave Creek\, AZ\, 85331\, United States
CATEGORIES:TeeBox Daily Specials
ORGANIZER;CN="TeeBox Indoor Golf Club":MAILTO:info@teebox.club
END:VEVENT
BEGIN:VEVENT
DTSTART;VALUE=DATE:20270208
DTEND;VALUE=DATE:20270209
DTSTAMP:20260425T085434
CREATED:20260408T232228Z
LAST-MODIFIED:20260423T000406Z
UID:10002884-1802044800-1802131199@teebox.club
SUMMARY:Monday — Margarita Monday
DESCRIPTION:$2 off margaritas
URL:https://teebox.club/event/monday-margarita-monday/2027-02-08/
LOCATION:TeeBox Indoor Golf Club\, 7100 E Cave Creek Rd Building R5\, Cave Creek\, AZ\, 85331\, United States
CATEGORIES:TeeBox Daily Specials
ORGANIZER;CN="TeeBox Indoor Golf Club":MAILTO:info@teebox.club
END:VEVENT
BEGIN:VEVENT
DTSTART;VALUE=DATE:20270209
DTEND;VALUE=DATE:20270210
DTSTAMP:20260425T085434
CREATED:20260408T232248Z
LAST-MODIFIED:20260423T000341Z
UID:10002830-1802131200-1802217599@teebox.club
SUMMARY:Tuesday — Tito’s Tuesday
DESCRIPTION:$2 off Tito’s cocktails\n$2 off nachos & wings
URL:https://teebox.club/event/tuesday-titos-tuesday/2027-02-09/
LOCATION:TeeBox Indoor Golf Club\, 7100 E Cave Creek Rd Building R5\, Cave Creek\, AZ\, 85331\, United States
CATEGORIES:TeeBox Daily Specials
ORGANIZER;CN="TeeBox Indoor Golf Club":MAILTO:info@teebox.club
END:VEVENT
BEGIN:VEVENT
DTSTART;VALUE=DATE:20270210
DTEND;VALUE=DATE:20270211
DTSTAMP:20260425T085434
CREATED:20260408T232311Z
LAST-MODIFIED:20260423T000317Z
UID:10002776-1802217600-1802303999@teebox.club
SUMMARY:Wednesday — Wine Wednesday
DESCRIPTION:$2 off house wine drafts\n$2 off pizza
URL:https://teebox.club/event/wednesday-wine-wednesday/2027-02-10/
LOCATION:TeeBox Indoor Golf Club\, 7100 E Cave Creek Rd Building R5\, Cave Creek\, AZ\, 85331\, United States
CATEGORIES:TeeBox Daily Specials
ORGANIZER;CN="TeeBox Indoor Golf Club":MAILTO:info@teebox.club
END:VEVENT
BEGIN:VEVENT
DTSTART;VALUE=DATE:20270211
DTEND;VALUE=DATE:20270212
DTSTAMP:20260425T085434
CREATED:20260408T232331Z
LAST-MODIFIED:20260423T000244Z
UID:10002722-1802304000-1802390399@teebox.club
SUMMARY:Thursday — Twisted Tea Thursday
DESCRIPTION:$5 Twisted Tea bottles\n$2 off chicken strips & fries
URL:https://teebox.club/event/thursday-twisted-tea-thursday/2027-02-11/
LOCATION:TeeBox Indoor Golf Club\, 7100 E Cave Creek Rd Building R5\, Cave Creek\, AZ\, 85331\, United States
CATEGORIES:TeeBox Daily Specials
ORGANIZER;CN="TeeBox Indoor Golf Club":MAILTO:info@teebox.club
END:VEVENT
BEGIN:VEVENT
DTSTART;VALUE=DATE:20270212
DTEND;VALUE=DATE:20270213
DTSTAMP:20260425T085434
CREATED:20260408T232350Z
LAST-MODIFIED:20260423T000200Z
UID:10002668-1802390400-1802476799@teebox.club
SUMMARY:Friday — IPA Friday
DESCRIPTION:$2 off IPA drafts\n$2 off burger menu
URL:https://teebox.club/event/friday-ipa-friday/2027-02-12/
LOCATION:TeeBox Indoor Golf Club\, 7100 E Cave Creek Rd Building R5\, Cave Creek\, AZ\, 85331\, United States
CATEGORIES:TeeBox Daily Specials
ORGANIZER;CN="TeeBox Indoor Golf Club":MAILTO:info@teebox.club
END:VEVENT
BEGIN:VEVENT
DTSTART;VALUE=DATE:20270213
DTEND;VALUE=DATE:20270214
DTSTAMP:20260425T085434
CREATED:20260408T232410Z
LAST-MODIFIED:20260423T000119Z
UID:10002614-1802476800-1802563199@teebox.club
SUMMARY:Saturday — Sippin’ Saturday
DESCRIPTION:$2 off TeeBox craft cocktails\n$2 off quesadilla
URL:https://teebox.club/event/saturday-sippin-saturday/2027-02-13/
LOCATION:TeeBox Indoor Golf Club\, 7100 E Cave Creek Rd Building R5\, Cave Creek\, AZ\, 85331\, United States
CATEGORIES:TeeBox Daily Specials
ORGANIZER;CN="TeeBox Indoor Golf Club":MAILTO:info@teebox.club
END:VEVENT
BEGIN:VEVENT
DTSTART;VALUE=DATE:20270214
DTEND;VALUE=DATE:20270215
DTSTAMP:20260425T085434
CREATED:20260408T232429Z
LAST-MODIFIED:20260423T000054Z
UID:10002560-1802563200-1802649599@teebox.club
SUMMARY:Sunday — Sky Bloody Sunday
DESCRIPTION:$2 off Skyy Bloody Marys\n$2 off Reuben & grilled cheese
URL:https://teebox.club/event/sunday-sky-bloody-sunday/2027-02-14/
LOCATION:TeeBox Indoor Golf Club\, 7100 E Cave Creek Rd Building R5\, Cave Creek\, AZ\, 85331\, United States
CATEGORIES:TeeBox Daily Specials
ORGANIZER;CN="TeeBox Indoor Golf Club":MAILTO:info@teebox.club
END:VEVENT
BEGIN:VEVENT
DTSTART;VALUE=DATE:20270215
DTEND;VALUE=DATE:20270216
DTSTAMP:20260425T085434
CREATED:20260408T232228Z
LAST-MODIFIED:20260423T000406Z
UID:10002885-1802649600-1802735999@teebox.club
SUMMARY:Monday — Margarita Monday
DESCRIPTION:$2 off margaritas
URL:https://teebox.club/event/monday-margarita-monday/2027-02-15/
LOCATION:TeeBox Indoor Golf Club\, 7100 E Cave Creek Rd Building R5\, Cave Creek\, AZ\, 85331\, United States
CATEGORIES:TeeBox Daily Specials
ORGANIZER;CN="TeeBox Indoor Golf Club":MAILTO:info@teebox.club
END:VEVENT
BEGIN:VEVENT
DTSTART;VALUE=DATE:20270216
DTEND;VALUE=DATE:20270217
DTSTAMP:20260425T085434
CREATED:20260408T232248Z
LAST-MODIFIED:20260423T000341Z
UID:10002831-1802736000-1802822399@teebox.club
SUMMARY:Tuesday — Tito’s Tuesday
DESCRIPTION:$2 off Tito’s cocktails\n$2 off nachos & wings
URL:https://teebox.club/event/tuesday-titos-tuesday/2027-02-16/
LOCATION:TeeBox Indoor Golf Club\, 7100 E Cave Creek Rd Building R5\, Cave Creek\, AZ\, 85331\, United States
CATEGORIES:TeeBox Daily Specials
ORGANIZER;CN="TeeBox Indoor Golf Club":MAILTO:info@teebox.club
END:VEVENT
BEGIN:VEVENT
DTSTART;VALUE=DATE:20270217
DTEND;VALUE=DATE:20270218
DTSTAMP:20260425T085434
CREATED:20260408T232311Z
LAST-MODIFIED:20260423T000317Z
UID:10002777-1802822400-1802908799@teebox.club
SUMMARY:Wednesday — Wine Wednesday
DESCRIPTION:$2 off house wine drafts\n$2 off pizza
URL:https://teebox.club/event/wednesday-wine-wednesday/2027-02-17/
LOCATION:TeeBox Indoor Golf Club\, 7100 E Cave Creek Rd Building R5\, Cave Creek\, AZ\, 85331\, United States
CATEGORIES:TeeBox Daily Specials
ORGANIZER;CN="TeeBox Indoor Golf Club":MAILTO:info@teebox.club
END:VEVENT
BEGIN:VEVENT
DTSTART;VALUE=DATE:20270218
DTEND;VALUE=DATE:20270219
DTSTAMP:20260425T085434
CREATED:20260408T232331Z
LAST-MODIFIED:20260423T000244Z
UID:10002723-1802908800-1802995199@teebox.club
SUMMARY:Thursday — Twisted Tea Thursday
DESCRIPTION:$5 Twisted Tea bottles\n$2 off chicken strips & fries
URL:https://teebox.club/event/thursday-twisted-tea-thursday/2027-02-18/
LOCATION:TeeBox Indoor Golf Club\, 7100 E Cave Creek Rd Building R5\, Cave Creek\, AZ\, 85331\, United States
CATEGORIES:TeeBox Daily Specials
ORGANIZER;CN="TeeBox Indoor Golf Club":MAILTO:info@teebox.club
END:VEVENT
BEGIN:VEVENT
DTSTART;VALUE=DATE:20270219
DTEND;VALUE=DATE:20270220
DTSTAMP:20260425T085434
CREATED:20260408T232350Z
LAST-MODIFIED:20260423T000200Z
UID:10002669-1802995200-1803081599@teebox.club
SUMMARY:Friday — IPA Friday
DESCRIPTION:$2 off IPA drafts\n$2 off burger menu
URL:https://teebox.club/event/friday-ipa-friday/2027-02-19/
LOCATION:TeeBox Indoor Golf Club\, 7100 E Cave Creek Rd Building R5\, Cave Creek\, AZ\, 85331\, United States
CATEGORIES:TeeBox Daily Specials
ORGANIZER;CN="TeeBox Indoor Golf Club":MAILTO:info@teebox.club
END:VEVENT
BEGIN:VEVENT
DTSTART;VALUE=DATE:20270220
DTEND;VALUE=DATE:20270221
DTSTAMP:20260425T085434
CREATED:20260408T232410Z
LAST-MODIFIED:20260423T000119Z
UID:10002615-1803081600-1803167999@teebox.club
SUMMARY:Saturday — Sippin’ Saturday
DESCRIPTION:$2 off TeeBox craft cocktails\n$2 off quesadilla
URL:https://teebox.club/event/saturday-sippin-saturday/2027-02-20/
LOCATION:TeeBox Indoor Golf Club\, 7100 E Cave Creek Rd Building R5\, Cave Creek\, AZ\, 85331\, United States
CATEGORIES:TeeBox Daily Specials
ORGANIZER;CN="TeeBox Indoor Golf Club":MAILTO:info@teebox.club
END:VEVENT
BEGIN:VEVENT
DTSTART;VALUE=DATE:20270221
DTEND;VALUE=DATE:20270222
DTSTAMP:20260425T085434
CREATED:20260408T232429Z
LAST-MODIFIED:20260423T000054Z
UID:10002561-1803168000-1803254399@teebox.club
SUMMARY:Sunday — Sky Bloody Sunday
DESCRIPTION:$2 off Skyy Bloody Marys\n$2 off Reuben & grilled cheese
URL:https://teebox.club/event/sunday-sky-bloody-sunday/2027-02-21/
LOCATION:TeeBox Indoor Golf Club\, 7100 E Cave Creek Rd Building R5\, Cave Creek\, AZ\, 85331\, United States
CATEGORIES:TeeBox Daily Specials
ORGANIZER;CN="TeeBox Indoor Golf Club":MAILTO:info@teebox.club
END:VEVENT
BEGIN:VEVENT
DTSTART;VALUE=DATE:20270222
DTEND;VALUE=DATE:20270223
DTSTAMP:20260425T085434
CREATED:20260408T232228Z
LAST-MODIFIED:20260423T000406Z
UID:10002886-1803254400-1803340799@teebox.club
SUMMARY:Monday — Margarita Monday
DESCRIPTION:$2 off margaritas
URL:https://teebox.club/event/monday-margarita-monday/2027-02-22/
LOCATION:TeeBox Indoor Golf Club\, 7100 E Cave Creek Rd Building R5\, Cave Creek\, AZ\, 85331\, United States
CATEGORIES:TeeBox Daily Specials
ORGANIZER;CN="TeeBox Indoor Golf Club":MAILTO:info@teebox.club
END:VEVENT
BEGIN:VEVENT
DTSTART;VALUE=DATE:20270223
DTEND;VALUE=DATE:20270224
DTSTAMP:20260425T085434
CREATED:20260408T232248Z
LAST-MODIFIED:20260423T000341Z
UID:10002832-1803340800-1803427199@teebox.club
SUMMARY:Tuesday — Tito’s Tuesday
DESCRIPTION:$2 off Tito’s cocktails\n$2 off nachos & wings
URL:https://teebox.club/event/tuesday-titos-tuesday/2027-02-23/
LOCATION:TeeBox Indoor Golf Club\, 7100 E Cave Creek Rd Building R5\, Cave Creek\, AZ\, 85331\, United States
CATEGORIES:TeeBox Daily Specials
ORGANIZER;CN="TeeBox Indoor Golf Club":MAILTO:info@teebox.club
END:VEVENT
BEGIN:VEVENT
DTSTART;VALUE=DATE:20270224
DTEND;VALUE=DATE:20270225
DTSTAMP:20260425T085434
CREATED:20260408T232311Z
LAST-MODIFIED:20260423T000317Z
UID:10002778-1803427200-1803513599@teebox.club
SUMMARY:Wednesday — Wine Wednesday
DESCRIPTION:$2 off house wine drafts\n$2 off pizza
URL:https://teebox.club/event/wednesday-wine-wednesday/2027-02-24/
LOCATION:TeeBox Indoor Golf Club\, 7100 E Cave Creek Rd Building R5\, Cave Creek\, AZ\, 85331\, United States
CATEGORIES:TeeBox Daily Specials
ORGANIZER;CN="TeeBox Indoor Golf Club":MAILTO:info@teebox.club
END:VEVENT
BEGIN:VEVENT
DTSTART;VALUE=DATE:20270225
DTEND;VALUE=DATE:20270226
DTSTAMP:20260425T085434
CREATED:20260408T232331Z
LAST-MODIFIED:20260423T000244Z
UID:10002724-1803513600-1803599999@teebox.club
SUMMARY:Thursday — Twisted Tea Thursday
DESCRIPTION:$5 Twisted Tea bottles\n$2 off chicken strips & fries
URL:https://teebox.club/event/thursday-twisted-tea-thursday/2027-02-25/
LOCATION:TeeBox Indoor Golf Club\, 7100 E Cave Creek Rd Building R5\, Cave Creek\, AZ\, 85331\, United States
CATEGORIES:TeeBox Daily Specials
ORGANIZER;CN="TeeBox Indoor Golf Club":MAILTO:info@teebox.club
END:VEVENT
BEGIN:VEVENT
DTSTART;VALUE=DATE:20270226
DTEND;VALUE=DATE:20270227
DTSTAMP:20260425T085434
CREATED:20260408T232350Z
LAST-MODIFIED:20260423T000200Z
UID:10002670-1803600000-1803686399@teebox.club
SUMMARY:Friday — IPA Friday
DESCRIPTION:$2 off IPA drafts\n$2 off burger menu
URL:https://teebox.club/event/friday-ipa-friday/2027-02-26/
LOCATION:TeeBox Indoor Golf Club\, 7100 E Cave Creek Rd Building R5\, Cave Creek\, AZ\, 85331\, United States
CATEGORIES:TeeBox Daily Specials
ORGANIZER;CN="TeeBox Indoor Golf Club":MAILTO:info@teebox.club
END:VEVENT
BEGIN:VEVENT
DTSTART;VALUE=DATE:20270227
DTEND;VALUE=DATE:20270228
DTSTAMP:20260425T085434
CREATED:20260408T232410Z
LAST-MODIFIED:20260423T000119Z
UID:10002616-1803686400-1803772799@teebox.club
SUMMARY:Saturday — Sippin’ Saturday
DESCRIPTION:$2 off TeeBox craft cocktails\n$2 off quesadilla
URL:https://teebox.club/event/saturday-sippin-saturday/2027-02-27/
LOCATION:TeeBox Indoor Golf Club\, 7100 E Cave Creek Rd Building R5\, Cave Creek\, AZ\, 85331\, United States
CATEGORIES:TeeBox Daily Specials
ORGANIZER;CN="TeeBox Indoor Golf Club":MAILTO:info@teebox.club
END:VEVENT
BEGIN:VEVENT
DTSTART;VALUE=DATE:20270228
DTEND;VALUE=DATE:20270301
DTSTAMP:20260425T085434
CREATED:20260408T232429Z
LAST-MODIFIED:20260423T000054Z
UID:10002562-1803772800-1803859199@teebox.club
SUMMARY:Sunday — Sky Bloody Sunday
DESCRIPTION:$2 off Skyy Bloody Marys\n$2 off Reuben & grilled cheese
URL:https://teebox.club/event/sunday-sky-bloody-sunday/2027-02-28/
LOCATION:TeeBox Indoor Golf Club\, 7100 E Cave Creek Rd Building R5\, Cave Creek\, AZ\, 85331\, United States
CATEGORIES:TeeBox Daily Specials
ORGANIZER;CN="TeeBox Indoor Golf Club":MAILTO:info@teebox.club
END:VEVENT
BEGIN:VEVENT
DTSTART;VALUE=DATE:20270301
DTEND;VALUE=DATE:20270302
DTSTAMP:20260425T085434
CREATED:20260408T232228Z
LAST-MODIFIED:20260423T000406Z
UID:10002887-1803859200-1803945599@teebox.club
SUMMARY:Monday — Margarita Monday
DESCRIPTION:$2 off margaritas
URL:https://teebox.club/event/monday-margarita-monday/2027-03-01/
LOCATION:TeeBox Indoor Golf Club\, 7100 E Cave Creek Rd Building R5\, Cave Creek\, AZ\, 85331\, United States
CATEGORIES:TeeBox Daily Specials
ORGANIZER;CN="TeeBox Indoor Golf Club":MAILTO:info@teebox.club
END:VEVENT
BEGIN:VEVENT
DTSTART;VALUE=DATE:20270302
DTEND;VALUE=DATE:20270303
DTSTAMP:20260425T085434
CREATED:20260408T232248Z
LAST-MODIFIED:20260423T000341Z
UID:10002833-1803945600-1804031999@teebox.club
SUMMARY:Tuesday — Tito’s Tuesday
DESCRIPTION:$2 off Tito’s cocktails\n$2 off nachos & wings
URL:https://teebox.club/event/tuesday-titos-tuesday/2027-03-02/
LOCATION:TeeBox Indoor Golf Club\, 7100 E Cave Creek Rd Building R5\, Cave Creek\, AZ\, 85331\, United States
CATEGORIES:TeeBox Daily Specials
ORGANIZER;CN="TeeBox Indoor Golf Club":MAILTO:info@teebox.club
END:VEVENT
BEGIN:VEVENT
DTSTART;VALUE=DATE:20270303
DTEND;VALUE=DATE:20270304
DTSTAMP:20260425T085434
CREATED:20260408T232311Z
LAST-MODIFIED:20260423T000317Z
UID:10002779-1804032000-1804118399@teebox.club
SUMMARY:Wednesday — Wine Wednesday
DESCRIPTION:$2 off house wine drafts\n$2 off pizza
URL:https://teebox.club/event/wednesday-wine-wednesday/2027-03-03/
LOCATION:TeeBox Indoor Golf Club\, 7100 E Cave Creek Rd Building R5\, Cave Creek\, AZ\, 85331\, United States
CATEGORIES:TeeBox Daily Specials
ORGANIZER;CN="TeeBox Indoor Golf Club":MAILTO:info@teebox.club
END:VEVENT
BEGIN:VEVENT
DTSTART;VALUE=DATE:20270304
DTEND;VALUE=DATE:20270305
DTSTAMP:20260425T085434
CREATED:20260408T232331Z
LAST-MODIFIED:20260423T000244Z
UID:10002725-1804118400-1804204799@teebox.club
SUMMARY:Thursday — Twisted Tea Thursday
DESCRIPTION:$5 Twisted Tea bottles\n$2 off chicken strips & fries
URL:https://teebox.club/event/thursday-twisted-tea-thursday/2027-03-04/
LOCATION:TeeBox Indoor Golf Club\, 7100 E Cave Creek Rd Building R5\, Cave Creek\, AZ\, 85331\, United States
CATEGORIES:TeeBox Daily Specials
ORGANIZER;CN="TeeBox Indoor Golf Club":MAILTO:info@teebox.club
END:VEVENT
BEGIN:VEVENT
DTSTART;VALUE=DATE:20270305
DTEND;VALUE=DATE:20270306
DTSTAMP:20260425T085434
CREATED:20260408T232350Z
LAST-MODIFIED:20260423T000200Z
UID:10002671-1804204800-1804291199@teebox.club
SUMMARY:Friday — IPA Friday
DESCRIPTION:$2 off IPA drafts\n$2 off burger menu
URL:https://teebox.club/event/friday-ipa-friday/2027-03-05/
LOCATION:TeeBox Indoor Golf Club\, 7100 E Cave Creek Rd Building R5\, Cave Creek\, AZ\, 85331\, United States
CATEGORIES:TeeBox Daily Specials
ORGANIZER;CN="TeeBox Indoor Golf Club":MAILTO:info@teebox.club
END:VEVENT
BEGIN:VEVENT
DTSTART;VALUE=DATE:20270306
DTEND;VALUE=DATE:20270307
DTSTAMP:20260425T085434
CREATED:20260408T232410Z
LAST-MODIFIED:20260423T000119Z
UID:10002617-1804291200-1804377599@teebox.club
SUMMARY:Saturday — Sippin’ Saturday
DESCRIPTION:$2 off TeeBox craft cocktails\n$2 off quesadilla
URL:https://teebox.club/event/saturday-sippin-saturday/2027-03-06/
LOCATION:TeeBox Indoor Golf Club\, 7100 E Cave Creek Rd Building R5\, Cave Creek\, AZ\, 85331\, United States
CATEGORIES:TeeBox Daily Specials
ORGANIZER;CN="TeeBox Indoor Golf Club":MAILTO:info@teebox.club
END:VEVENT
END:VCALENDAR