BEGIN:VCALENDAR
VERSION:2.0
PRODID:-//TeeBox Indoor Golf &amp; Fitness - ECPv6.6.4.2//NONSGML v1.0//EN
CALSCALE:GREGORIAN
METHOD:PUBLISH
X-WR-CALNAME:TeeBox Indoor Golf &amp; Fitness
X-ORIGINAL-URL:https://teebox.club
X-WR-CALDESC:Events for TeeBox Indoor Golf &amp; Fitness
REFRESH-INTERVAL;VALUE=DURATION:PT1H
X-Robots-Tag:noindex
X-PUBLISHED-TTL:PT1H
BEGIN:VTIMEZONE
TZID:America/Phoenix
BEGIN:STANDARD
TZOFFSETFROM:-0700
TZOFFSETTO:-0700
TZNAME:MST
DTSTART:20260101T000000
END:STANDARD
END:VTIMEZONE
BEGIN:VEVENT
DTSTART;VALUE=DATE:20261231
DTEND;VALUE=DATE:20270101
DTSTAMP:20260425T033953
CREATED:20260408T232331Z
LAST-MODIFIED:20260423T000244Z
UID:10002716-1798675200-1798761599@teebox.club
SUMMARY:Thursday — Twisted Tea Thursday
DESCRIPTION:$5 Twisted Tea bottles\n$2 off chicken strips & fries
URL:https://teebox.club/event/thursday-twisted-tea-thursday/2026-12-31/
LOCATION:TeeBox Indoor Golf Club\, 7100 E Cave Creek Rd Building R5\, Cave Creek\, AZ\, 85331\, United States
CATEGORIES:TeeBox Daily Specials
ORGANIZER;CN="TeeBox Indoor Golf Club":MAILTO:info@teebox.club
END:VEVENT
BEGIN:VEVENT
DTSTART;VALUE=DATE:20270101
DTEND;VALUE=DATE:20270102
DTSTAMP:20260425T033953
CREATED:20260408T232350Z
LAST-MODIFIED:20260423T000200Z
UID:10002662-1798761600-1798847999@teebox.club
SUMMARY:Friday — IPA Friday
DESCRIPTION:$2 off IPA drafts\n$2 off burger menu
URL:https://teebox.club/event/friday-ipa-friday/2027-01-01/
LOCATION:TeeBox Indoor Golf Club\, 7100 E Cave Creek Rd Building R5\, Cave Creek\, AZ\, 85331\, United States
CATEGORIES:TeeBox Daily Specials
ORGANIZER;CN="TeeBox Indoor Golf Club":MAILTO:info@teebox.club
END:VEVENT
BEGIN:VEVENT
DTSTART;VALUE=DATE:20270102
DTEND;VALUE=DATE:20270103
DTSTAMP:20260425T033953
CREATED:20260408T232410Z
LAST-MODIFIED:20260423T000119Z
UID:10002608-1798848000-1798934399@teebox.club
SUMMARY:Saturday — Sippin’ Saturday
DESCRIPTION:$2 off TeeBox craft cocktails\n$2 off quesadilla
URL:https://teebox.club/event/saturday-sippin-saturday/2027-01-02/
LOCATION:TeeBox Indoor Golf Club\, 7100 E Cave Creek Rd Building R5\, Cave Creek\, AZ\, 85331\, United States
CATEGORIES:TeeBox Daily Specials
ORGANIZER;CN="TeeBox Indoor Golf Club":MAILTO:info@teebox.club
END:VEVENT
BEGIN:VEVENT
DTSTART;VALUE=DATE:20270103
DTEND;VALUE=DATE:20270104
DTSTAMP:20260425T033953
CREATED:20260408T232429Z
LAST-MODIFIED:20260423T000054Z
UID:10002554-1798934400-1799020799@teebox.club
SUMMARY:Sunday — Sky Bloody Sunday
DESCRIPTION:$2 off Skyy Bloody Marys\n$2 off Reuben & grilled cheese
URL:https://teebox.club/event/sunday-sky-bloody-sunday/2027-01-03/
LOCATION:TeeBox Indoor Golf Club\, 7100 E Cave Creek Rd Building R5\, Cave Creek\, AZ\, 85331\, United States
CATEGORIES:TeeBox Daily Specials
ORGANIZER;CN="TeeBox Indoor Golf Club":MAILTO:info@teebox.club
END:VEVENT
BEGIN:VEVENT
DTSTART;VALUE=DATE:20270104
DTEND;VALUE=DATE:20270105
DTSTAMP:20260425T033953
CREATED:20260408T232228Z
LAST-MODIFIED:20260423T000406Z
UID:10002879-1799020800-1799107199@teebox.club
SUMMARY:Monday — Margarita Monday
DESCRIPTION:$2 off margaritas
URL:https://teebox.club/event/monday-margarita-monday/2027-01-04/
LOCATION:TeeBox Indoor Golf Club\, 7100 E Cave Creek Rd Building R5\, Cave Creek\, AZ\, 85331\, United States
CATEGORIES:TeeBox Daily Specials
ORGANIZER;CN="TeeBox Indoor Golf Club":MAILTO:info@teebox.club
END:VEVENT
BEGIN:VEVENT
DTSTART;VALUE=DATE:20270105
DTEND;VALUE=DATE:20270106
DTSTAMP:20260425T033953
CREATED:20260408T232248Z
LAST-MODIFIED:20260423T000341Z
UID:10002825-1799107200-1799193599@teebox.club
SUMMARY:Tuesday — Tito’s Tuesday
DESCRIPTION:$2 off Tito’s cocktails\n$2 off nachos & wings
URL:https://teebox.club/event/tuesday-titos-tuesday/2027-01-05/
LOCATION:TeeBox Indoor Golf Club\, 7100 E Cave Creek Rd Building R5\, Cave Creek\, AZ\, 85331\, United States
CATEGORIES:TeeBox Daily Specials
ORGANIZER;CN="TeeBox Indoor Golf Club":MAILTO:info@teebox.club
END:VEVENT
BEGIN:VEVENT
DTSTART;VALUE=DATE:20270106
DTEND;VALUE=DATE:20270107
DTSTAMP:20260425T033953
CREATED:20260408T232311Z
LAST-MODIFIED:20260423T000317Z
UID:10002771-1799193600-1799279999@teebox.club
SUMMARY:Wednesday — Wine Wednesday
DESCRIPTION:$2 off house wine drafts\n$2 off pizza
URL:https://teebox.club/event/wednesday-wine-wednesday/2027-01-06/
LOCATION:TeeBox Indoor Golf Club\, 7100 E Cave Creek Rd Building R5\, Cave Creek\, AZ\, 85331\, United States
CATEGORIES:TeeBox Daily Specials
ORGANIZER;CN="TeeBox Indoor Golf Club":MAILTO:info@teebox.club
END:VEVENT
BEGIN:VEVENT
DTSTART;VALUE=DATE:20270107
DTEND;VALUE=DATE:20270108
DTSTAMP:20260425T033953
CREATED:20260408T232331Z
LAST-MODIFIED:20260423T000244Z
UID:10002717-1799280000-1799366399@teebox.club
SUMMARY:Thursday — Twisted Tea Thursday
DESCRIPTION:$5 Twisted Tea bottles\n$2 off chicken strips & fries
URL:https://teebox.club/event/thursday-twisted-tea-thursday/2027-01-07/
LOCATION:TeeBox Indoor Golf Club\, 7100 E Cave Creek Rd Building R5\, Cave Creek\, AZ\, 85331\, United States
CATEGORIES:TeeBox Daily Specials
ORGANIZER;CN="TeeBox Indoor Golf Club":MAILTO:info@teebox.club
END:VEVENT
BEGIN:VEVENT
DTSTART;VALUE=DATE:20270108
DTEND;VALUE=DATE:20270109
DTSTAMP:20260425T033953
CREATED:20260408T232350Z
LAST-MODIFIED:20260423T000200Z
UID:10002663-1799366400-1799452799@teebox.club
SUMMARY:Friday — IPA Friday
DESCRIPTION:$2 off IPA drafts\n$2 off burger menu
URL:https://teebox.club/event/friday-ipa-friday/2027-01-08/
LOCATION:TeeBox Indoor Golf Club\, 7100 E Cave Creek Rd Building R5\, Cave Creek\, AZ\, 85331\, United States
CATEGORIES:TeeBox Daily Specials
ORGANIZER;CN="TeeBox Indoor Golf Club":MAILTO:info@teebox.club
END:VEVENT
BEGIN:VEVENT
DTSTART;VALUE=DATE:20270109
DTEND;VALUE=DATE:20270110
DTSTAMP:20260425T033953
CREATED:20260408T232410Z
LAST-MODIFIED:20260423T000119Z
UID:10002609-1799452800-1799539199@teebox.club
SUMMARY:Saturday — Sippin’ Saturday
DESCRIPTION:$2 off TeeBox craft cocktails\n$2 off quesadilla
URL:https://teebox.club/event/saturday-sippin-saturday/2027-01-09/
LOCATION:TeeBox Indoor Golf Club\, 7100 E Cave Creek Rd Building R5\, Cave Creek\, AZ\, 85331\, United States
CATEGORIES:TeeBox Daily Specials
ORGANIZER;CN="TeeBox Indoor Golf Club":MAILTO:info@teebox.club
END:VEVENT
BEGIN:VEVENT
DTSTART;VALUE=DATE:20270110
DTEND;VALUE=DATE:20270111
DTSTAMP:20260425T033953
CREATED:20260408T232429Z
LAST-MODIFIED:20260423T000054Z
UID:10002555-1799539200-1799625599@teebox.club
SUMMARY:Sunday — Sky Bloody Sunday
DESCRIPTION:$2 off Skyy Bloody Marys\n$2 off Reuben & grilled cheese
URL:https://teebox.club/event/sunday-sky-bloody-sunday/2027-01-10/
LOCATION:TeeBox Indoor Golf Club\, 7100 E Cave Creek Rd Building R5\, Cave Creek\, AZ\, 85331\, United States
CATEGORIES:TeeBox Daily Specials
ORGANIZER;CN="TeeBox Indoor Golf Club":MAILTO:info@teebox.club
END:VEVENT
BEGIN:VEVENT
DTSTART;VALUE=DATE:20270111
DTEND;VALUE=DATE:20270112
DTSTAMP:20260425T033953
CREATED:20260408T232228Z
LAST-MODIFIED:20260423T000406Z
UID:10002880-1799625600-1799711999@teebox.club
SUMMARY:Monday — Margarita Monday
DESCRIPTION:$2 off margaritas
URL:https://teebox.club/event/monday-margarita-monday/2027-01-11/
LOCATION:TeeBox Indoor Golf Club\, 7100 E Cave Creek Rd Building R5\, Cave Creek\, AZ\, 85331\, United States
CATEGORIES:TeeBox Daily Specials
ORGANIZER;CN="TeeBox Indoor Golf Club":MAILTO:info@teebox.club
END:VEVENT
BEGIN:VEVENT
DTSTART;VALUE=DATE:20270112
DTEND;VALUE=DATE:20270113
DTSTAMP:20260425T033953
CREATED:20260408T232248Z
LAST-MODIFIED:20260423T000341Z
UID:10002826-1799712000-1799798399@teebox.club
SUMMARY:Tuesday — Tito’s Tuesday
DESCRIPTION:$2 off Tito’s cocktails\n$2 off nachos & wings
URL:https://teebox.club/event/tuesday-titos-tuesday/2027-01-12/
LOCATION:TeeBox Indoor Golf Club\, 7100 E Cave Creek Rd Building R5\, Cave Creek\, AZ\, 85331\, United States
CATEGORIES:TeeBox Daily Specials
ORGANIZER;CN="TeeBox Indoor Golf Club":MAILTO:info@teebox.club
END:VEVENT
BEGIN:VEVENT
DTSTART;VALUE=DATE:20270113
DTEND;VALUE=DATE:20270114
DTSTAMP:20260425T033953
CREATED:20260408T232311Z
LAST-MODIFIED:20260423T000317Z
UID:10002772-1799798400-1799884799@teebox.club
SUMMARY:Wednesday — Wine Wednesday
DESCRIPTION:$2 off house wine drafts\n$2 off pizza
URL:https://teebox.club/event/wednesday-wine-wednesday/2027-01-13/
LOCATION:TeeBox Indoor Golf Club\, 7100 E Cave Creek Rd Building R5\, Cave Creek\, AZ\, 85331\, United States
CATEGORIES:TeeBox Daily Specials
ORGANIZER;CN="TeeBox Indoor Golf Club":MAILTO:info@teebox.club
END:VEVENT
BEGIN:VEVENT
DTSTART;VALUE=DATE:20270114
DTEND;VALUE=DATE:20270115
DTSTAMP:20260425T033953
CREATED:20260408T232331Z
LAST-MODIFIED:20260423T000244Z
UID:10002718-1799884800-1799971199@teebox.club
SUMMARY:Thursday — Twisted Tea Thursday
DESCRIPTION:$5 Twisted Tea bottles\n$2 off chicken strips & fries
URL:https://teebox.club/event/thursday-twisted-tea-thursday/2027-01-14/
LOCATION:TeeBox Indoor Golf Club\, 7100 E Cave Creek Rd Building R5\, Cave Creek\, AZ\, 85331\, United States
CATEGORIES:TeeBox Daily Specials
ORGANIZER;CN="TeeBox Indoor Golf Club":MAILTO:info@teebox.club
END:VEVENT
BEGIN:VEVENT
DTSTART;VALUE=DATE:20270115
DTEND;VALUE=DATE:20270116
DTSTAMP:20260425T033953
CREATED:20260408T232350Z
LAST-MODIFIED:20260423T000200Z
UID:10002664-1799971200-1800057599@teebox.club
SUMMARY:Friday — IPA Friday
DESCRIPTION:$2 off IPA drafts\n$2 off burger menu
URL:https://teebox.club/event/friday-ipa-friday/2027-01-15/
LOCATION:TeeBox Indoor Golf Club\, 7100 E Cave Creek Rd Building R5\, Cave Creek\, AZ\, 85331\, United States
CATEGORIES:TeeBox Daily Specials
ORGANIZER;CN="TeeBox Indoor Golf Club":MAILTO:info@teebox.club
END:VEVENT
BEGIN:VEVENT
DTSTART;VALUE=DATE:20270116
DTEND;VALUE=DATE:20270117
DTSTAMP:20260425T033953
CREATED:20260408T232410Z
LAST-MODIFIED:20260423T000119Z
UID:10002610-1800057600-1800143999@teebox.club
SUMMARY:Saturday — Sippin’ Saturday
DESCRIPTION:$2 off TeeBox craft cocktails\n$2 off quesadilla
URL:https://teebox.club/event/saturday-sippin-saturday/2027-01-16/
LOCATION:TeeBox Indoor Golf Club\, 7100 E Cave Creek Rd Building R5\, Cave Creek\, AZ\, 85331\, United States
CATEGORIES:TeeBox Daily Specials
ORGANIZER;CN="TeeBox Indoor Golf Club":MAILTO:info@teebox.club
END:VEVENT
BEGIN:VEVENT
DTSTART;VALUE=DATE:20270117
DTEND;VALUE=DATE:20270118
DTSTAMP:20260425T033953
CREATED:20260408T232429Z
LAST-MODIFIED:20260423T000054Z
UID:10002556-1800144000-1800230399@teebox.club
SUMMARY:Sunday — Sky Bloody Sunday
DESCRIPTION:$2 off Skyy Bloody Marys\n$2 off Reuben & grilled cheese
URL:https://teebox.club/event/sunday-sky-bloody-sunday/2027-01-17/
LOCATION:TeeBox Indoor Golf Club\, 7100 E Cave Creek Rd Building R5\, Cave Creek\, AZ\, 85331\, United States
CATEGORIES:TeeBox Daily Specials
ORGANIZER;CN="TeeBox Indoor Golf Club":MAILTO:info@teebox.club
END:VEVENT
BEGIN:VEVENT
DTSTART;VALUE=DATE:20270118
DTEND;VALUE=DATE:20270119
DTSTAMP:20260425T033953
CREATED:20260408T232228Z
LAST-MODIFIED:20260423T000406Z
UID:10002881-1800230400-1800316799@teebox.club
SUMMARY:Monday — Margarita Monday
DESCRIPTION:$2 off margaritas
URL:https://teebox.club/event/monday-margarita-monday/2027-01-18/
LOCATION:TeeBox Indoor Golf Club\, 7100 E Cave Creek Rd Building R5\, Cave Creek\, AZ\, 85331\, United States
CATEGORIES:TeeBox Daily Specials
ORGANIZER;CN="TeeBox Indoor Golf Club":MAILTO:info@teebox.club
END:VEVENT
BEGIN:VEVENT
DTSTART;VALUE=DATE:20270119
DTEND;VALUE=DATE:20270120
DTSTAMP:20260425T033953
CREATED:20260408T232248Z
LAST-MODIFIED:20260423T000341Z
UID:10002827-1800316800-1800403199@teebox.club
SUMMARY:Tuesday — Tito’s Tuesday
DESCRIPTION:$2 off Tito’s cocktails\n$2 off nachos & wings
URL:https://teebox.club/event/tuesday-titos-tuesday/2027-01-19/
LOCATION:TeeBox Indoor Golf Club\, 7100 E Cave Creek Rd Building R5\, Cave Creek\, AZ\, 85331\, United States
CATEGORIES:TeeBox Daily Specials
ORGANIZER;CN="TeeBox Indoor Golf Club":MAILTO:info@teebox.club
END:VEVENT
BEGIN:VEVENT
DTSTART;VALUE=DATE:20270120
DTEND;VALUE=DATE:20270121
DTSTAMP:20260425T033953
CREATED:20260408T232311Z
LAST-MODIFIED:20260423T000317Z
UID:10002773-1800403200-1800489599@teebox.club
SUMMARY:Wednesday — Wine Wednesday
DESCRIPTION:$2 off house wine drafts\n$2 off pizza
URL:https://teebox.club/event/wednesday-wine-wednesday/2027-01-20/
LOCATION:TeeBox Indoor Golf Club\, 7100 E Cave Creek Rd Building R5\, Cave Creek\, AZ\, 85331\, United States
CATEGORIES:TeeBox Daily Specials
ORGANIZER;CN="TeeBox Indoor Golf Club":MAILTO:info@teebox.club
END:VEVENT
BEGIN:VEVENT
DTSTART;VALUE=DATE:20270121
DTEND;VALUE=DATE:20270122
DTSTAMP:20260425T033953
CREATED:20260408T232331Z
LAST-MODIFIED:20260423T000244Z
UID:10002719-1800489600-1800575999@teebox.club
SUMMARY:Thursday — Twisted Tea Thursday
DESCRIPTION:$5 Twisted Tea bottles\n$2 off chicken strips & fries
URL:https://teebox.club/event/thursday-twisted-tea-thursday/2027-01-21/
LOCATION:TeeBox Indoor Golf Club\, 7100 E Cave Creek Rd Building R5\, Cave Creek\, AZ\, 85331\, United States
CATEGORIES:TeeBox Daily Specials
ORGANIZER;CN="TeeBox Indoor Golf Club":MAILTO:info@teebox.club
END:VEVENT
BEGIN:VEVENT
DTSTART;VALUE=DATE:20270122
DTEND;VALUE=DATE:20270123
DTSTAMP:20260425T033954
CREATED:20260408T232350Z
LAST-MODIFIED:20260423T000200Z
UID:10002665-1800576000-1800662399@teebox.club
SUMMARY:Friday — IPA Friday
DESCRIPTION:$2 off IPA drafts\n$2 off burger menu
URL:https://teebox.club/event/friday-ipa-friday/2027-01-22/
LOCATION:TeeBox Indoor Golf Club\, 7100 E Cave Creek Rd Building R5\, Cave Creek\, AZ\, 85331\, United States
CATEGORIES:TeeBox Daily Specials
ORGANIZER;CN="TeeBox Indoor Golf Club":MAILTO:info@teebox.club
END:VEVENT
BEGIN:VEVENT
DTSTART;VALUE=DATE:20270123
DTEND;VALUE=DATE:20270124
DTSTAMP:20260425T033954
CREATED:20260408T232410Z
LAST-MODIFIED:20260423T000119Z
UID:10002611-1800662400-1800748799@teebox.club
SUMMARY:Saturday — Sippin’ Saturday
DESCRIPTION:$2 off TeeBox craft cocktails\n$2 off quesadilla
URL:https://teebox.club/event/saturday-sippin-saturday/2027-01-23/
LOCATION:TeeBox Indoor Golf Club\, 7100 E Cave Creek Rd Building R5\, Cave Creek\, AZ\, 85331\, United States
CATEGORIES:TeeBox Daily Specials
ORGANIZER;CN="TeeBox Indoor Golf Club":MAILTO:info@teebox.club
END:VEVENT
BEGIN:VEVENT
DTSTART;VALUE=DATE:20270124
DTEND;VALUE=DATE:20270125
DTSTAMP:20260425T033954
CREATED:20260408T232429Z
LAST-MODIFIED:20260423T000054Z
UID:10002557-1800748800-1800835199@teebox.club
SUMMARY:Sunday — Sky Bloody Sunday
DESCRIPTION:$2 off Skyy Bloody Marys\n$2 off Reuben & grilled cheese
URL:https://teebox.club/event/sunday-sky-bloody-sunday/2027-01-24/
LOCATION:TeeBox Indoor Golf Club\, 7100 E Cave Creek Rd Building R5\, Cave Creek\, AZ\, 85331\, United States
CATEGORIES:TeeBox Daily Specials
ORGANIZER;CN="TeeBox Indoor Golf Club":MAILTO:info@teebox.club
END:VEVENT
BEGIN:VEVENT
DTSTART;VALUE=DATE:20270125
DTEND;VALUE=DATE:20270126
DTSTAMP:20260425T033954
CREATED:20260408T232228Z
LAST-MODIFIED:20260423T000406Z
UID:10002882-1800835200-1800921599@teebox.club
SUMMARY:Monday — Margarita Monday
DESCRIPTION:$2 off margaritas
URL:https://teebox.club/event/monday-margarita-monday/2027-01-25/
LOCATION:TeeBox Indoor Golf Club\, 7100 E Cave Creek Rd Building R5\, Cave Creek\, AZ\, 85331\, United States
CATEGORIES:TeeBox Daily Specials
ORGANIZER;CN="TeeBox Indoor Golf Club":MAILTO:info@teebox.club
END:VEVENT
BEGIN:VEVENT
DTSTART;VALUE=DATE:20270126
DTEND;VALUE=DATE:20270127
DTSTAMP:20260425T033954
CREATED:20260408T232248Z
LAST-MODIFIED:20260423T000341Z
UID:10002828-1800921600-1801007999@teebox.club
SUMMARY:Tuesday — Tito’s Tuesday
DESCRIPTION:$2 off Tito’s cocktails\n$2 off nachos & wings
URL:https://teebox.club/event/tuesday-titos-tuesday/2027-01-26/
LOCATION:TeeBox Indoor Golf Club\, 7100 E Cave Creek Rd Building R5\, Cave Creek\, AZ\, 85331\, United States
CATEGORIES:TeeBox Daily Specials
ORGANIZER;CN="TeeBox Indoor Golf Club":MAILTO:info@teebox.club
END:VEVENT
BEGIN:VEVENT
DTSTART;VALUE=DATE:20270127
DTEND;VALUE=DATE:20270128
DTSTAMP:20260425T033954
CREATED:20260408T232311Z
LAST-MODIFIED:20260423T000317Z
UID:10002774-1801008000-1801094399@teebox.club
SUMMARY:Wednesday — Wine Wednesday
DESCRIPTION:$2 off house wine drafts\n$2 off pizza
URL:https://teebox.club/event/wednesday-wine-wednesday/2027-01-27/
LOCATION:TeeBox Indoor Golf Club\, 7100 E Cave Creek Rd Building R5\, Cave Creek\, AZ\, 85331\, United States
CATEGORIES:TeeBox Daily Specials
ORGANIZER;CN="TeeBox Indoor Golf Club":MAILTO:info@teebox.club
END:VEVENT
BEGIN:VEVENT
DTSTART;VALUE=DATE:20270128
DTEND;VALUE=DATE:20270129
DTSTAMP:20260425T033954
CREATED:20260408T232331Z
LAST-MODIFIED:20260423T000244Z
UID:10002720-1801094400-1801180799@teebox.club
SUMMARY:Thursday — Twisted Tea Thursday
DESCRIPTION:$5 Twisted Tea bottles\n$2 off chicken strips & fries
URL:https://teebox.club/event/thursday-twisted-tea-thursday/2027-01-28/
LOCATION:TeeBox Indoor Golf Club\, 7100 E Cave Creek Rd Building R5\, Cave Creek\, AZ\, 85331\, United States
CATEGORIES:TeeBox Daily Specials
ORGANIZER;CN="TeeBox Indoor Golf Club":MAILTO:info@teebox.club
END:VEVENT
BEGIN:VEVENT
DTSTART;VALUE=DATE:20270129
DTEND;VALUE=DATE:20270130
DTSTAMP:20260425T033954
CREATED:20260408T232350Z
LAST-MODIFIED:20260423T000200Z
UID:10002666-1801180800-1801267199@teebox.club
SUMMARY:Friday — IPA Friday
DESCRIPTION:$2 off IPA drafts\n$2 off burger menu
URL:https://teebox.club/event/friday-ipa-friday/2027-01-29/
LOCATION:TeeBox Indoor Golf Club\, 7100 E Cave Creek Rd Building R5\, Cave Creek\, AZ\, 85331\, United States
CATEGORIES:TeeBox Daily Specials
ORGANIZER;CN="TeeBox Indoor Golf Club":MAILTO:info@teebox.club
END:VEVENT
END:VCALENDAR