BEGIN:VCALENDAR
VERSION:2.0
PRODID:-//TeeBox Indoor Golf &amp; Fitness - ECPv6.6.4.2//NONSGML v1.0//EN
CALSCALE:GREGORIAN
METHOD:PUBLISH
X-ORIGINAL-URL:https://teebox.club
X-WR-CALDESC:Events for TeeBox Indoor Golf &amp; Fitness
REFRESH-INTERVAL;VALUE=DURATION:PT1H
X-Robots-Tag:noindex
X-PUBLISHED-TTL:PT1H
BEGIN:VTIMEZONE
TZID:America/Phoenix
BEGIN:STANDARD
TZOFFSETFROM:-0700
TZOFFSETTO:-0700
TZNAME:MST
DTSTART:20260101T000000
END:STANDARD
END:VTIMEZONE
BEGIN:VEVENT
DTSTART;VALUE=DATE:20261125
DTEND;VALUE=DATE:20261126
DTSTAMP:20260424T094549
CREATED:20260408T232311Z
LAST-MODIFIED:20260423T000317Z
UID:10002765-1795564800-1795651199@teebox.club
SUMMARY:Wednesday — Wine Wednesday
DESCRIPTION:$2 off house wine drafts\n$2 off pizza
URL:https://teebox.club/event/wednesday-wine-wednesday/2026-11-25/
LOCATION:TeeBox Indoor Golf Club\, 7100 E Cave Creek Rd Building R5\, Cave Creek\, AZ\, 85331\, United States
CATEGORIES:TeeBox Daily Specials
ORGANIZER;CN="TeeBox Indoor Golf Club":MAILTO:info@teebox.club
END:VEVENT
BEGIN:VEVENT
DTSTART;VALUE=DATE:20261126
DTEND;VALUE=DATE:20261127
DTSTAMP:20260424T094549
CREATED:20260408T232331Z
LAST-MODIFIED:20260423T000244Z
UID:10002711-1795651200-1795737599@teebox.club
SUMMARY:Thursday — Twisted Tea Thursday
DESCRIPTION:$5 Twisted Tea bottles\n$2 off chicken strips & fries
URL:https://teebox.club/event/thursday-twisted-tea-thursday/2026-11-26/
LOCATION:TeeBox Indoor Golf Club\, 7100 E Cave Creek Rd Building R5\, Cave Creek\, AZ\, 85331\, United States
CATEGORIES:TeeBox Daily Specials
ORGANIZER;CN="TeeBox Indoor Golf Club":MAILTO:info@teebox.club
END:VEVENT
BEGIN:VEVENT
DTSTART;VALUE=DATE:20261127
DTEND;VALUE=DATE:20261128
DTSTAMP:20260424T094549
CREATED:20260408T232350Z
LAST-MODIFIED:20260423T000200Z
UID:10002657-1795737600-1795823999@teebox.club
SUMMARY:Friday — IPA Friday
DESCRIPTION:$2 off IPA drafts\n$2 off burger menu
URL:https://teebox.club/event/friday-ipa-friday/2026-11-27/
LOCATION:TeeBox Indoor Golf Club\, 7100 E Cave Creek Rd Building R5\, Cave Creek\, AZ\, 85331\, United States
CATEGORIES:TeeBox Daily Specials
ORGANIZER;CN="TeeBox Indoor Golf Club":MAILTO:info@teebox.club
END:VEVENT
BEGIN:VEVENT
DTSTART;VALUE=DATE:20261128
DTEND;VALUE=DATE:20261129
DTSTAMP:20260424T094549
CREATED:20260408T232410Z
LAST-MODIFIED:20260423T000119Z
UID:10002603-1795824000-1795910399@teebox.club
SUMMARY:Saturday — Sippin’ Saturday
DESCRIPTION:$2 off TeeBox craft cocktails\n$2 off quesadilla
URL:https://teebox.club/event/saturday-sippin-saturday/2026-11-28/
LOCATION:TeeBox Indoor Golf Club\, 7100 E Cave Creek Rd Building R5\, Cave Creek\, AZ\, 85331\, United States
CATEGORIES:TeeBox Daily Specials
ORGANIZER;CN="TeeBox Indoor Golf Club":MAILTO:info@teebox.club
END:VEVENT
BEGIN:VEVENT
DTSTART;VALUE=DATE:20261129
DTEND;VALUE=DATE:20261130
DTSTAMP:20260424T094549
CREATED:20260408T232429Z
LAST-MODIFIED:20260423T000054Z
UID:10002549-1795910400-1795996799@teebox.club
SUMMARY:Sunday — Sky Bloody Sunday
DESCRIPTION:$2 off Skyy Bloody Marys\n$2 off Reuben & grilled cheese
URL:https://teebox.club/event/sunday-sky-bloody-sunday/2026-11-29/
LOCATION:TeeBox Indoor Golf Club\, 7100 E Cave Creek Rd Building R5\, Cave Creek\, AZ\, 85331\, United States
CATEGORIES:TeeBox Daily Specials
ORGANIZER;CN="TeeBox Indoor Golf Club":MAILTO:info@teebox.club
END:VEVENT
BEGIN:VEVENT
DTSTART;VALUE=DATE:20261130
DTEND;VALUE=DATE:20261201
DTSTAMP:20260424T094549
CREATED:20260408T232228Z
LAST-MODIFIED:20260423T000406Z
UID:10002874-1795996800-1796083199@teebox.club
SUMMARY:Monday — Margarita Monday
DESCRIPTION:$2 off margaritas
URL:https://teebox.club/event/monday-margarita-monday/2026-11-30/
LOCATION:TeeBox Indoor Golf Club\, 7100 E Cave Creek Rd Building R5\, Cave Creek\, AZ\, 85331\, United States
CATEGORIES:TeeBox Daily Specials
ORGANIZER;CN="TeeBox Indoor Golf Club":MAILTO:info@teebox.club
END:VEVENT
BEGIN:VEVENT
DTSTART;VALUE=DATE:20261201
DTEND;VALUE=DATE:20261202
DTSTAMP:20260424T094549
CREATED:20260408T232248Z
LAST-MODIFIED:20260423T000341Z
UID:10002820-1796083200-1796169599@teebox.club
SUMMARY:Tuesday — Tito’s Tuesday
DESCRIPTION:$2 off Tito’s cocktails\n$2 off nachos & wings
URL:https://teebox.club/event/tuesday-titos-tuesday/2026-12-01/
LOCATION:TeeBox Indoor Golf Club\, 7100 E Cave Creek Rd Building R5\, Cave Creek\, AZ\, 85331\, United States
CATEGORIES:TeeBox Daily Specials
ORGANIZER;CN="TeeBox Indoor Golf Club":MAILTO:info@teebox.club
END:VEVENT
BEGIN:VEVENT
DTSTART;VALUE=DATE:20261202
DTEND;VALUE=DATE:20261203
DTSTAMP:20260424T094549
CREATED:20260408T232311Z
LAST-MODIFIED:20260423T000317Z
UID:10002766-1796169600-1796255999@teebox.club
SUMMARY:Wednesday — Wine Wednesday
DESCRIPTION:$2 off house wine drafts\n$2 off pizza
URL:https://teebox.club/event/wednesday-wine-wednesday/2026-12-02/
LOCATION:TeeBox Indoor Golf Club\, 7100 E Cave Creek Rd Building R5\, Cave Creek\, AZ\, 85331\, United States
CATEGORIES:TeeBox Daily Specials
ORGANIZER;CN="TeeBox Indoor Golf Club":MAILTO:info@teebox.club
END:VEVENT
BEGIN:VEVENT
DTSTART;VALUE=DATE:20261203
DTEND;VALUE=DATE:20261204
DTSTAMP:20260424T094549
CREATED:20260408T232331Z
LAST-MODIFIED:20260423T000244Z
UID:10002712-1796256000-1796342399@teebox.club
SUMMARY:Thursday — Twisted Tea Thursday
DESCRIPTION:$5 Twisted Tea bottles\n$2 off chicken strips & fries
URL:https://teebox.club/event/thursday-twisted-tea-thursday/2026-12-03/
LOCATION:TeeBox Indoor Golf Club\, 7100 E Cave Creek Rd Building R5\, Cave Creek\, AZ\, 85331\, United States
CATEGORIES:TeeBox Daily Specials
ORGANIZER;CN="TeeBox Indoor Golf Club":MAILTO:info@teebox.club
END:VEVENT
BEGIN:VEVENT
DTSTART;VALUE=DATE:20261204
DTEND;VALUE=DATE:20261205
DTSTAMP:20260424T094549
CREATED:20260408T232350Z
LAST-MODIFIED:20260423T000200Z
UID:10002658-1796342400-1796428799@teebox.club
SUMMARY:Friday — IPA Friday
DESCRIPTION:$2 off IPA drafts\n$2 off burger menu
URL:https://teebox.club/event/friday-ipa-friday/2026-12-04/
LOCATION:TeeBox Indoor Golf Club\, 7100 E Cave Creek Rd Building R5\, Cave Creek\, AZ\, 85331\, United States
CATEGORIES:TeeBox Daily Specials
ORGANIZER;CN="TeeBox Indoor Golf Club":MAILTO:info@teebox.club
END:VEVENT
BEGIN:VEVENT
DTSTART;VALUE=DATE:20261205
DTEND;VALUE=DATE:20261206
DTSTAMP:20260424T094549
CREATED:20260408T232410Z
LAST-MODIFIED:20260423T000119Z
UID:10002604-1796428800-1796515199@teebox.club
SUMMARY:Saturday — Sippin’ Saturday
DESCRIPTION:$2 off TeeBox craft cocktails\n$2 off quesadilla
URL:https://teebox.club/event/saturday-sippin-saturday/2026-12-05/
LOCATION:TeeBox Indoor Golf Club\, 7100 E Cave Creek Rd Building R5\, Cave Creek\, AZ\, 85331\, United States
CATEGORIES:TeeBox Daily Specials
ORGANIZER;CN="TeeBox Indoor Golf Club":MAILTO:info@teebox.club
END:VEVENT
BEGIN:VEVENT
DTSTART;VALUE=DATE:20261206
DTEND;VALUE=DATE:20261207
DTSTAMP:20260424T094549
CREATED:20260408T232429Z
LAST-MODIFIED:20260423T000054Z
UID:10002550-1796515200-1796601599@teebox.club
SUMMARY:Sunday — Sky Bloody Sunday
DESCRIPTION:$2 off Skyy Bloody Marys\n$2 off Reuben & grilled cheese
URL:https://teebox.club/event/sunday-sky-bloody-sunday/2026-12-06/
LOCATION:TeeBox Indoor Golf Club\, 7100 E Cave Creek Rd Building R5\, Cave Creek\, AZ\, 85331\, United States
CATEGORIES:TeeBox Daily Specials
ORGANIZER;CN="TeeBox Indoor Golf Club":MAILTO:info@teebox.club
END:VEVENT
BEGIN:VEVENT
DTSTART;VALUE=DATE:20261207
DTEND;VALUE=DATE:20261208
DTSTAMP:20260424T094549
CREATED:20260408T232228Z
LAST-MODIFIED:20260423T000406Z
UID:10002875-1796601600-1796687999@teebox.club
SUMMARY:Monday — Margarita Monday
DESCRIPTION:$2 off margaritas
URL:https://teebox.club/event/monday-margarita-monday/2026-12-07/
LOCATION:TeeBox Indoor Golf Club\, 7100 E Cave Creek Rd Building R5\, Cave Creek\, AZ\, 85331\, United States
CATEGORIES:TeeBox Daily Specials
ORGANIZER;CN="TeeBox Indoor Golf Club":MAILTO:info@teebox.club
END:VEVENT
BEGIN:VEVENT
DTSTART;VALUE=DATE:20261208
DTEND;VALUE=DATE:20261209
DTSTAMP:20260424T094549
CREATED:20260408T232248Z
LAST-MODIFIED:20260423T000341Z
UID:10002821-1796688000-1796774399@teebox.club
SUMMARY:Tuesday — Tito’s Tuesday
DESCRIPTION:$2 off Tito’s cocktails\n$2 off nachos & wings
URL:https://teebox.club/event/tuesday-titos-tuesday/2026-12-08/
LOCATION:TeeBox Indoor Golf Club\, 7100 E Cave Creek Rd Building R5\, Cave Creek\, AZ\, 85331\, United States
CATEGORIES:TeeBox Daily Specials
ORGANIZER;CN="TeeBox Indoor Golf Club":MAILTO:info@teebox.club
END:VEVENT
BEGIN:VEVENT
DTSTART;VALUE=DATE:20261209
DTEND;VALUE=DATE:20261210
DTSTAMP:20260424T094549
CREATED:20260408T232311Z
LAST-MODIFIED:20260423T000317Z
UID:10002767-1796774400-1796860799@teebox.club
SUMMARY:Wednesday — Wine Wednesday
DESCRIPTION:$2 off house wine drafts\n$2 off pizza
URL:https://teebox.club/event/wednesday-wine-wednesday/2026-12-09/
LOCATION:TeeBox Indoor Golf Club\, 7100 E Cave Creek Rd Building R5\, Cave Creek\, AZ\, 85331\, United States
CATEGORIES:TeeBox Daily Specials
ORGANIZER;CN="TeeBox Indoor Golf Club":MAILTO:info@teebox.club
END:VEVENT
BEGIN:VEVENT
DTSTART;VALUE=DATE:20261210
DTEND;VALUE=DATE:20261211
DTSTAMP:20260424T094549
CREATED:20260408T232331Z
LAST-MODIFIED:20260423T000244Z
UID:10002713-1796860800-1796947199@teebox.club
SUMMARY:Thursday — Twisted Tea Thursday
DESCRIPTION:$5 Twisted Tea bottles\n$2 off chicken strips & fries
URL:https://teebox.club/event/thursday-twisted-tea-thursday/2026-12-10/
LOCATION:TeeBox Indoor Golf Club\, 7100 E Cave Creek Rd Building R5\, Cave Creek\, AZ\, 85331\, United States
CATEGORIES:TeeBox Daily Specials
ORGANIZER;CN="TeeBox Indoor Golf Club":MAILTO:info@teebox.club
END:VEVENT
BEGIN:VEVENT
DTSTART;VALUE=DATE:20261211
DTEND;VALUE=DATE:20261212
DTSTAMP:20260424T094549
CREATED:20260408T232350Z
LAST-MODIFIED:20260423T000200Z
UID:10002659-1796947200-1797033599@teebox.club
SUMMARY:Friday — IPA Friday
DESCRIPTION:$2 off IPA drafts\n$2 off burger menu
URL:https://teebox.club/event/friday-ipa-friday/2026-12-11/
LOCATION:TeeBox Indoor Golf Club\, 7100 E Cave Creek Rd Building R5\, Cave Creek\, AZ\, 85331\, United States
CATEGORIES:TeeBox Daily Specials
ORGANIZER;CN="TeeBox Indoor Golf Club":MAILTO:info@teebox.club
END:VEVENT
BEGIN:VEVENT
DTSTART;VALUE=DATE:20261212
DTEND;VALUE=DATE:20261213
DTSTAMP:20260424T094549
CREATED:20260408T232410Z
LAST-MODIFIED:20260423T000119Z
UID:10002605-1797033600-1797119999@teebox.club
SUMMARY:Saturday — Sippin’ Saturday
DESCRIPTION:$2 off TeeBox craft cocktails\n$2 off quesadilla
URL:https://teebox.club/event/saturday-sippin-saturday/2026-12-12/
LOCATION:TeeBox Indoor Golf Club\, 7100 E Cave Creek Rd Building R5\, Cave Creek\, AZ\, 85331\, United States
CATEGORIES:TeeBox Daily Specials
ORGANIZER;CN="TeeBox Indoor Golf Club":MAILTO:info@teebox.club
END:VEVENT
BEGIN:VEVENT
DTSTART;VALUE=DATE:20261213
DTEND;VALUE=DATE:20261214
DTSTAMP:20260424T094549
CREATED:20260408T232429Z
LAST-MODIFIED:20260423T000054Z
UID:10002551-1797120000-1797206399@teebox.club
SUMMARY:Sunday — Sky Bloody Sunday
DESCRIPTION:$2 off Skyy Bloody Marys\n$2 off Reuben & grilled cheese
URL:https://teebox.club/event/sunday-sky-bloody-sunday/2026-12-13/
LOCATION:TeeBox Indoor Golf Club\, 7100 E Cave Creek Rd Building R5\, Cave Creek\, AZ\, 85331\, United States
CATEGORIES:TeeBox Daily Specials
ORGANIZER;CN="TeeBox Indoor Golf Club":MAILTO:info@teebox.club
END:VEVENT
BEGIN:VEVENT
DTSTART;VALUE=DATE:20261214
DTEND;VALUE=DATE:20261215
DTSTAMP:20260424T094549
CREATED:20260408T232228Z
LAST-MODIFIED:20260423T000406Z
UID:10002876-1797206400-1797292799@teebox.club
SUMMARY:Monday — Margarita Monday
DESCRIPTION:$2 off margaritas
URL:https://teebox.club/event/monday-margarita-monday/2026-12-14/
LOCATION:TeeBox Indoor Golf Club\, 7100 E Cave Creek Rd Building R5\, Cave Creek\, AZ\, 85331\, United States
CATEGORIES:TeeBox Daily Specials
ORGANIZER;CN="TeeBox Indoor Golf Club":MAILTO:info@teebox.club
END:VEVENT
BEGIN:VEVENT
DTSTART;VALUE=DATE:20261215
DTEND;VALUE=DATE:20261216
DTSTAMP:20260424T094549
CREATED:20260408T232248Z
LAST-MODIFIED:20260423T000341Z
UID:10002822-1797292800-1797379199@teebox.club
SUMMARY:Tuesday — Tito’s Tuesday
DESCRIPTION:$2 off Tito’s cocktails\n$2 off nachos & wings
URL:https://teebox.club/event/tuesday-titos-tuesday/2026-12-15/
LOCATION:TeeBox Indoor Golf Club\, 7100 E Cave Creek Rd Building R5\, Cave Creek\, AZ\, 85331\, United States
CATEGORIES:TeeBox Daily Specials
ORGANIZER;CN="TeeBox Indoor Golf Club":MAILTO:info@teebox.club
END:VEVENT
BEGIN:VEVENT
DTSTART;VALUE=DATE:20261216
DTEND;VALUE=DATE:20261217
DTSTAMP:20260424T094549
CREATED:20260408T232311Z
LAST-MODIFIED:20260423T000317Z
UID:10002768-1797379200-1797465599@teebox.club
SUMMARY:Wednesday — Wine Wednesday
DESCRIPTION:$2 off house wine drafts\n$2 off pizza
URL:https://teebox.club/event/wednesday-wine-wednesday/2026-12-16/
LOCATION:TeeBox Indoor Golf Club\, 7100 E Cave Creek Rd Building R5\, Cave Creek\, AZ\, 85331\, United States
CATEGORIES:TeeBox Daily Specials
ORGANIZER;CN="TeeBox Indoor Golf Club":MAILTO:info@teebox.club
END:VEVENT
BEGIN:VEVENT
DTSTART;VALUE=DATE:20261217
DTEND;VALUE=DATE:20261218
DTSTAMP:20260424T094549
CREATED:20260408T232331Z
LAST-MODIFIED:20260423T000244Z
UID:10002714-1797465600-1797551999@teebox.club
SUMMARY:Thursday — Twisted Tea Thursday
DESCRIPTION:$5 Twisted Tea bottles\n$2 off chicken strips & fries
URL:https://teebox.club/event/thursday-twisted-tea-thursday/2026-12-17/
LOCATION:TeeBox Indoor Golf Club\, 7100 E Cave Creek Rd Building R5\, Cave Creek\, AZ\, 85331\, United States
CATEGORIES:TeeBox Daily Specials
ORGANIZER;CN="TeeBox Indoor Golf Club":MAILTO:info@teebox.club
END:VEVENT
BEGIN:VEVENT
DTSTART;VALUE=DATE:20261218
DTEND;VALUE=DATE:20261219
DTSTAMP:20260424T094549
CREATED:20260408T232350Z
LAST-MODIFIED:20260423T000200Z
UID:10002660-1797552000-1797638399@teebox.club
SUMMARY:Friday — IPA Friday
DESCRIPTION:$2 off IPA drafts\n$2 off burger menu
URL:https://teebox.club/event/friday-ipa-friday/2026-12-18/
LOCATION:TeeBox Indoor Golf Club\, 7100 E Cave Creek Rd Building R5\, Cave Creek\, AZ\, 85331\, United States
CATEGORIES:TeeBox Daily Specials
ORGANIZER;CN="TeeBox Indoor Golf Club":MAILTO:info@teebox.club
END:VEVENT
BEGIN:VEVENT
DTSTART;VALUE=DATE:20261219
DTEND;VALUE=DATE:20261220
DTSTAMP:20260424T094549
CREATED:20260408T232410Z
LAST-MODIFIED:20260423T000119Z
UID:10002606-1797638400-1797724799@teebox.club
SUMMARY:Saturday — Sippin’ Saturday
DESCRIPTION:$2 off TeeBox craft cocktails\n$2 off quesadilla
URL:https://teebox.club/event/saturday-sippin-saturday/2026-12-19/
LOCATION:TeeBox Indoor Golf Club\, 7100 E Cave Creek Rd Building R5\, Cave Creek\, AZ\, 85331\, United States
CATEGORIES:TeeBox Daily Specials
ORGANIZER;CN="TeeBox Indoor Golf Club":MAILTO:info@teebox.club
END:VEVENT
BEGIN:VEVENT
DTSTART;VALUE=DATE:20261220
DTEND;VALUE=DATE:20261221
DTSTAMP:20260424T094549
CREATED:20260408T232429Z
LAST-MODIFIED:20260423T000054Z
UID:10002552-1797724800-1797811199@teebox.club
SUMMARY:Sunday — Sky Bloody Sunday
DESCRIPTION:$2 off Skyy Bloody Marys\n$2 off Reuben & grilled cheese
URL:https://teebox.club/event/sunday-sky-bloody-sunday/2026-12-20/
LOCATION:TeeBox Indoor Golf Club\, 7100 E Cave Creek Rd Building R5\, Cave Creek\, AZ\, 85331\, United States
CATEGORIES:TeeBox Daily Specials
ORGANIZER;CN="TeeBox Indoor Golf Club":MAILTO:info@teebox.club
END:VEVENT
BEGIN:VEVENT
DTSTART;VALUE=DATE:20261221
DTEND;VALUE=DATE:20261222
DTSTAMP:20260424T094549
CREATED:20260408T232228Z
LAST-MODIFIED:20260423T000406Z
UID:10002877-1797811200-1797897599@teebox.club
SUMMARY:Monday — Margarita Monday
DESCRIPTION:$2 off margaritas
URL:https://teebox.club/event/monday-margarita-monday/2026-12-21/
LOCATION:TeeBox Indoor Golf Club\, 7100 E Cave Creek Rd Building R5\, Cave Creek\, AZ\, 85331\, United States
CATEGORIES:TeeBox Daily Specials
ORGANIZER;CN="TeeBox Indoor Golf Club":MAILTO:info@teebox.club
END:VEVENT
BEGIN:VEVENT
DTSTART;VALUE=DATE:20261222
DTEND;VALUE=DATE:20261223
DTSTAMP:20260424T094549
CREATED:20260408T232248Z
LAST-MODIFIED:20260423T000341Z
UID:10002823-1797897600-1797983999@teebox.club
SUMMARY:Tuesday — Tito’s Tuesday
DESCRIPTION:$2 off Tito’s cocktails\n$2 off nachos & wings
URL:https://teebox.club/event/tuesday-titos-tuesday/2026-12-22/
LOCATION:TeeBox Indoor Golf Club\, 7100 E Cave Creek Rd Building R5\, Cave Creek\, AZ\, 85331\, United States
CATEGORIES:TeeBox Daily Specials
ORGANIZER;CN="TeeBox Indoor Golf Club":MAILTO:info@teebox.club
END:VEVENT
BEGIN:VEVENT
DTSTART;VALUE=DATE:20261223
DTEND;VALUE=DATE:20261224
DTSTAMP:20260424T094549
CREATED:20260408T232311Z
LAST-MODIFIED:20260423T000317Z
UID:10002769-1797984000-1798070399@teebox.club
SUMMARY:Wednesday — Wine Wednesday
DESCRIPTION:$2 off house wine drafts\n$2 off pizza
URL:https://teebox.club/event/wednesday-wine-wednesday/2026-12-23/
LOCATION:TeeBox Indoor Golf Club\, 7100 E Cave Creek Rd Building R5\, Cave Creek\, AZ\, 85331\, United States
CATEGORIES:TeeBox Daily Specials
ORGANIZER;CN="TeeBox Indoor Golf Club":MAILTO:info@teebox.club
END:VEVENT
BEGIN:VEVENT
DTSTART;VALUE=DATE:20261224
DTEND;VALUE=DATE:20261225
DTSTAMP:20260424T094549
CREATED:20260408T232331Z
LAST-MODIFIED:20260423T000244Z
UID:10002715-1798070400-1798156799@teebox.club
SUMMARY:Thursday — Twisted Tea Thursday
DESCRIPTION:$5 Twisted Tea bottles\n$2 off chicken strips & fries
URL:https://teebox.club/event/thursday-twisted-tea-thursday/2026-12-24/
LOCATION:TeeBox Indoor Golf Club\, 7100 E Cave Creek Rd Building R5\, Cave Creek\, AZ\, 85331\, United States
CATEGORIES:TeeBox Daily Specials
ORGANIZER;CN="TeeBox Indoor Golf Club":MAILTO:info@teebox.club
END:VEVENT
END:VCALENDAR