BEGIN:VCALENDAR
VERSION:2.0
PRODID:-//TeeBox Indoor Golf &amp; Fitness - ECPv6.6.4.2//NONSGML v1.0//EN
CALSCALE:GREGORIAN
METHOD:PUBLISH
X-WR-CALNAME:TeeBox Indoor Golf &amp; Fitness
X-ORIGINAL-URL:https://teebox.club
X-WR-CALDESC:Events for TeeBox Indoor Golf &amp; Fitness
REFRESH-INTERVAL;VALUE=DURATION:PT1H
X-Robots-Tag:noindex
X-PUBLISHED-TTL:PT1H
BEGIN:VTIMEZONE
TZID:America/Phoenix
BEGIN:STANDARD
TZOFFSETFROM:-0700
TZOFFSETTO:-0700
TZNAME:MST
DTSTART:20260101T000000
END:STANDARD
END:VTIMEZONE
BEGIN:VEVENT
DTSTART;VALUE=DATE:20261020
DTEND;VALUE=DATE:20261021
DTSTAMP:20260425T090839
CREATED:20260408T232248Z
LAST-MODIFIED:20260423T000341Z
UID:10002814-1792454400-1792540799@teebox.club
SUMMARY:Tuesday — Tito’s Tuesday
DESCRIPTION:$2 off Tito’s cocktails\n$2 off nachos & wings
URL:https://teebox.club/event/tuesday-titos-tuesday/2026-10-20/
LOCATION:TeeBox Indoor Golf Club\, 7100 E Cave Creek Rd Building R5\, Cave Creek\, AZ\, 85331\, United States
CATEGORIES:TeeBox Daily Specials
ORGANIZER;CN="TeeBox Indoor Golf Club":MAILTO:info@teebox.club
END:VEVENT
BEGIN:VEVENT
DTSTART;VALUE=DATE:20261021
DTEND;VALUE=DATE:20261022
DTSTAMP:20260425T090839
CREATED:20260408T232311Z
LAST-MODIFIED:20260423T000317Z
UID:10002760-1792540800-1792627199@teebox.club
SUMMARY:Wednesday — Wine Wednesday
DESCRIPTION:$2 off house wine drafts\n$2 off pizza
URL:https://teebox.club/event/wednesday-wine-wednesday/2026-10-21/
LOCATION:TeeBox Indoor Golf Club\, 7100 E Cave Creek Rd Building R5\, Cave Creek\, AZ\, 85331\, United States
CATEGORIES:TeeBox Daily Specials
ORGANIZER;CN="TeeBox Indoor Golf Club":MAILTO:info@teebox.club
END:VEVENT
BEGIN:VEVENT
DTSTART;VALUE=DATE:20261022
DTEND;VALUE=DATE:20261023
DTSTAMP:20260425T090839
CREATED:20260408T232331Z
LAST-MODIFIED:20260423T000244Z
UID:10002706-1792627200-1792713599@teebox.club
SUMMARY:Thursday — Twisted Tea Thursday
DESCRIPTION:$5 Twisted Tea bottles\n$2 off chicken strips & fries
URL:https://teebox.club/event/thursday-twisted-tea-thursday/2026-10-22/
LOCATION:TeeBox Indoor Golf Club\, 7100 E Cave Creek Rd Building R5\, Cave Creek\, AZ\, 85331\, United States
CATEGORIES:TeeBox Daily Specials
ORGANIZER;CN="TeeBox Indoor Golf Club":MAILTO:info@teebox.club
END:VEVENT
BEGIN:VEVENT
DTSTART;VALUE=DATE:20261023
DTEND;VALUE=DATE:20261024
DTSTAMP:20260425T090839
CREATED:20260408T232350Z
LAST-MODIFIED:20260423T000200Z
UID:10002652-1792713600-1792799999@teebox.club
SUMMARY:Friday — IPA Friday
DESCRIPTION:$2 off IPA drafts\n$2 off burger menu
URL:https://teebox.club/event/friday-ipa-friday/2026-10-23/
LOCATION:TeeBox Indoor Golf Club\, 7100 E Cave Creek Rd Building R5\, Cave Creek\, AZ\, 85331\, United States
CATEGORIES:TeeBox Daily Specials
ORGANIZER;CN="TeeBox Indoor Golf Club":MAILTO:info@teebox.club
END:VEVENT
BEGIN:VEVENT
DTSTART;VALUE=DATE:20261024
DTEND;VALUE=DATE:20261025
DTSTAMP:20260425T090839
CREATED:20260408T232410Z
LAST-MODIFIED:20260423T000119Z
UID:10002598-1792800000-1792886399@teebox.club
SUMMARY:Saturday — Sippin’ Saturday
DESCRIPTION:$2 off TeeBox craft cocktails\n$2 off quesadilla
URL:https://teebox.club/event/saturday-sippin-saturday/2026-10-24/
LOCATION:TeeBox Indoor Golf Club\, 7100 E Cave Creek Rd Building R5\, Cave Creek\, AZ\, 85331\, United States
CATEGORIES:TeeBox Daily Specials
ORGANIZER;CN="TeeBox Indoor Golf Club":MAILTO:info@teebox.club
END:VEVENT
BEGIN:VEVENT
DTSTART;VALUE=DATE:20261025
DTEND;VALUE=DATE:20261026
DTSTAMP:20260425T090839
CREATED:20260408T232429Z
LAST-MODIFIED:20260423T000054Z
UID:10002544-1792886400-1792972799@teebox.club
SUMMARY:Sunday — Sky Bloody Sunday
DESCRIPTION:$2 off Skyy Bloody Marys\n$2 off Reuben & grilled cheese
URL:https://teebox.club/event/sunday-sky-bloody-sunday/2026-10-25/
LOCATION:TeeBox Indoor Golf Club\, 7100 E Cave Creek Rd Building R5\, Cave Creek\, AZ\, 85331\, United States
CATEGORIES:TeeBox Daily Specials
ORGANIZER;CN="TeeBox Indoor Golf Club":MAILTO:info@teebox.club
END:VEVENT
BEGIN:VEVENT
DTSTART;VALUE=DATE:20261026
DTEND;VALUE=DATE:20261027
DTSTAMP:20260425T090839
CREATED:20260408T232228Z
LAST-MODIFIED:20260423T000406Z
UID:10002869-1792972800-1793059199@teebox.club
SUMMARY:Monday — Margarita Monday
DESCRIPTION:$2 off margaritas
URL:https://teebox.club/event/monday-margarita-monday/2026-10-26/
LOCATION:TeeBox Indoor Golf Club\, 7100 E Cave Creek Rd Building R5\, Cave Creek\, AZ\, 85331\, United States
CATEGORIES:TeeBox Daily Specials
ORGANIZER;CN="TeeBox Indoor Golf Club":MAILTO:info@teebox.club
END:VEVENT
BEGIN:VEVENT
DTSTART;VALUE=DATE:20261027
DTEND;VALUE=DATE:20261028
DTSTAMP:20260425T090839
CREATED:20260408T232248Z
LAST-MODIFIED:20260423T000341Z
UID:10002815-1793059200-1793145599@teebox.club
SUMMARY:Tuesday — Tito’s Tuesday
DESCRIPTION:$2 off Tito’s cocktails\n$2 off nachos & wings
URL:https://teebox.club/event/tuesday-titos-tuesday/2026-10-27/
LOCATION:TeeBox Indoor Golf Club\, 7100 E Cave Creek Rd Building R5\, Cave Creek\, AZ\, 85331\, United States
CATEGORIES:TeeBox Daily Specials
ORGANIZER;CN="TeeBox Indoor Golf Club":MAILTO:info@teebox.club
END:VEVENT
BEGIN:VEVENT
DTSTART;VALUE=DATE:20261028
DTEND;VALUE=DATE:20261029
DTSTAMP:20260425T090839
CREATED:20260408T232311Z
LAST-MODIFIED:20260423T000317Z
UID:10002761-1793145600-1793231999@teebox.club
SUMMARY:Wednesday — Wine Wednesday
DESCRIPTION:$2 off house wine drafts\n$2 off pizza
URL:https://teebox.club/event/wednesday-wine-wednesday/2026-10-28/
LOCATION:TeeBox Indoor Golf Club\, 7100 E Cave Creek Rd Building R5\, Cave Creek\, AZ\, 85331\, United States
CATEGORIES:TeeBox Daily Specials
ORGANIZER;CN="TeeBox Indoor Golf Club":MAILTO:info@teebox.club
END:VEVENT
BEGIN:VEVENT
DTSTART;VALUE=DATE:20261029
DTEND;VALUE=DATE:20261030
DTSTAMP:20260425T090839
CREATED:20260408T232331Z
LAST-MODIFIED:20260423T000244Z
UID:10002707-1793232000-1793318399@teebox.club
SUMMARY:Thursday — Twisted Tea Thursday
DESCRIPTION:$5 Twisted Tea bottles\n$2 off chicken strips & fries
URL:https://teebox.club/event/thursday-twisted-tea-thursday/2026-10-29/
LOCATION:TeeBox Indoor Golf Club\, 7100 E Cave Creek Rd Building R5\, Cave Creek\, AZ\, 85331\, United States
CATEGORIES:TeeBox Daily Specials
ORGANIZER;CN="TeeBox Indoor Golf Club":MAILTO:info@teebox.club
END:VEVENT
BEGIN:VEVENT
DTSTART;VALUE=DATE:20261030
DTEND;VALUE=DATE:20261031
DTSTAMP:20260425T090839
CREATED:20260408T232350Z
LAST-MODIFIED:20260423T000200Z
UID:10002653-1793318400-1793404799@teebox.club
SUMMARY:Friday — IPA Friday
DESCRIPTION:$2 off IPA drafts\n$2 off burger menu
URL:https://teebox.club/event/friday-ipa-friday/2026-10-30/
LOCATION:TeeBox Indoor Golf Club\, 7100 E Cave Creek Rd Building R5\, Cave Creek\, AZ\, 85331\, United States
CATEGORIES:TeeBox Daily Specials
ORGANIZER;CN="TeeBox Indoor Golf Club":MAILTO:info@teebox.club
END:VEVENT
BEGIN:VEVENT
DTSTART;VALUE=DATE:20261031
DTEND;VALUE=DATE:20261101
DTSTAMP:20260425T090839
CREATED:20260408T232410Z
LAST-MODIFIED:20260423T000119Z
UID:10002599-1793404800-1793491199@teebox.club
SUMMARY:Saturday — Sippin’ Saturday
DESCRIPTION:$2 off TeeBox craft cocktails\n$2 off quesadilla
URL:https://teebox.club/event/saturday-sippin-saturday/2026-10-31/
LOCATION:TeeBox Indoor Golf Club\, 7100 E Cave Creek Rd Building R5\, Cave Creek\, AZ\, 85331\, United States
CATEGORIES:TeeBox Daily Specials
ORGANIZER;CN="TeeBox Indoor Golf Club":MAILTO:info@teebox.club
END:VEVENT
BEGIN:VEVENT
DTSTART;VALUE=DATE:20261101
DTEND;VALUE=DATE:20261102
DTSTAMP:20260425T090839
CREATED:20260408T232429Z
LAST-MODIFIED:20260423T000054Z
UID:10002545-1793491200-1793577599@teebox.club
SUMMARY:Sunday — Sky Bloody Sunday
DESCRIPTION:$2 off Skyy Bloody Marys\n$2 off Reuben & grilled cheese
URL:https://teebox.club/event/sunday-sky-bloody-sunday/2026-11-01/
LOCATION:TeeBox Indoor Golf Club\, 7100 E Cave Creek Rd Building R5\, Cave Creek\, AZ\, 85331\, United States
CATEGORIES:TeeBox Daily Specials
ORGANIZER;CN="TeeBox Indoor Golf Club":MAILTO:info@teebox.club
END:VEVENT
BEGIN:VEVENT
DTSTART;VALUE=DATE:20261102
DTEND;VALUE=DATE:20261103
DTSTAMP:20260425T090839
CREATED:20260408T232228Z
LAST-MODIFIED:20260423T000406Z
UID:10002870-1793577600-1793663999@teebox.club
SUMMARY:Monday — Margarita Monday
DESCRIPTION:$2 off margaritas
URL:https://teebox.club/event/monday-margarita-monday/2026-11-02/
LOCATION:TeeBox Indoor Golf Club\, 7100 E Cave Creek Rd Building R5\, Cave Creek\, AZ\, 85331\, United States
CATEGORIES:TeeBox Daily Specials
ORGANIZER;CN="TeeBox Indoor Golf Club":MAILTO:info@teebox.club
END:VEVENT
BEGIN:VEVENT
DTSTART;VALUE=DATE:20261103
DTEND;VALUE=DATE:20261104
DTSTAMP:20260425T090839
CREATED:20260408T232248Z
LAST-MODIFIED:20260423T000341Z
UID:10002816-1793664000-1793750399@teebox.club
SUMMARY:Tuesday — Tito’s Tuesday
DESCRIPTION:$2 off Tito’s cocktails\n$2 off nachos & wings
URL:https://teebox.club/event/tuesday-titos-tuesday/2026-11-03/
LOCATION:TeeBox Indoor Golf Club\, 7100 E Cave Creek Rd Building R5\, Cave Creek\, AZ\, 85331\, United States
CATEGORIES:TeeBox Daily Specials
ORGANIZER;CN="TeeBox Indoor Golf Club":MAILTO:info@teebox.club
END:VEVENT
BEGIN:VEVENT
DTSTART;VALUE=DATE:20261104
DTEND;VALUE=DATE:20261105
DTSTAMP:20260425T090839
CREATED:20260408T232311Z
LAST-MODIFIED:20260423T000317Z
UID:10002762-1793750400-1793836799@teebox.club
SUMMARY:Wednesday — Wine Wednesday
DESCRIPTION:$2 off house wine drafts\n$2 off pizza
URL:https://teebox.club/event/wednesday-wine-wednesday/2026-11-04/
LOCATION:TeeBox Indoor Golf Club\, 7100 E Cave Creek Rd Building R5\, Cave Creek\, AZ\, 85331\, United States
CATEGORIES:TeeBox Daily Specials
ORGANIZER;CN="TeeBox Indoor Golf Club":MAILTO:info@teebox.club
END:VEVENT
BEGIN:VEVENT
DTSTART;VALUE=DATE:20261105
DTEND;VALUE=DATE:20261106
DTSTAMP:20260425T090839
CREATED:20260408T232331Z
LAST-MODIFIED:20260423T000244Z
UID:10002708-1793836800-1793923199@teebox.club
SUMMARY:Thursday — Twisted Tea Thursday
DESCRIPTION:$5 Twisted Tea bottles\n$2 off chicken strips & fries
URL:https://teebox.club/event/thursday-twisted-tea-thursday/2026-11-05/
LOCATION:TeeBox Indoor Golf Club\, 7100 E Cave Creek Rd Building R5\, Cave Creek\, AZ\, 85331\, United States
CATEGORIES:TeeBox Daily Specials
ORGANIZER;CN="TeeBox Indoor Golf Club":MAILTO:info@teebox.club
END:VEVENT
BEGIN:VEVENT
DTSTART;VALUE=DATE:20261106
DTEND;VALUE=DATE:20261107
DTSTAMP:20260425T090839
CREATED:20260408T232350Z
LAST-MODIFIED:20260423T000200Z
UID:10002654-1793923200-1794009599@teebox.club
SUMMARY:Friday — IPA Friday
DESCRIPTION:$2 off IPA drafts\n$2 off burger menu
URL:https://teebox.club/event/friday-ipa-friday/2026-11-06/
LOCATION:TeeBox Indoor Golf Club\, 7100 E Cave Creek Rd Building R5\, Cave Creek\, AZ\, 85331\, United States
CATEGORIES:TeeBox Daily Specials
ORGANIZER;CN="TeeBox Indoor Golf Club":MAILTO:info@teebox.club
END:VEVENT
BEGIN:VEVENT
DTSTART;VALUE=DATE:20261107
DTEND;VALUE=DATE:20261108
DTSTAMP:20260425T090839
CREATED:20260408T232410Z
LAST-MODIFIED:20260423T000119Z
UID:10002600-1794009600-1794095999@teebox.club
SUMMARY:Saturday — Sippin’ Saturday
DESCRIPTION:$2 off TeeBox craft cocktails\n$2 off quesadilla
URL:https://teebox.club/event/saturday-sippin-saturday/2026-11-07/
LOCATION:TeeBox Indoor Golf Club\, 7100 E Cave Creek Rd Building R5\, Cave Creek\, AZ\, 85331\, United States
CATEGORIES:TeeBox Daily Specials
ORGANIZER;CN="TeeBox Indoor Golf Club":MAILTO:info@teebox.club
END:VEVENT
BEGIN:VEVENT
DTSTART;VALUE=DATE:20261108
DTEND;VALUE=DATE:20261109
DTSTAMP:20260425T090839
CREATED:20260408T232429Z
LAST-MODIFIED:20260423T000054Z
UID:10002546-1794096000-1794182399@teebox.club
SUMMARY:Sunday — Sky Bloody Sunday
DESCRIPTION:$2 off Skyy Bloody Marys\n$2 off Reuben & grilled cheese
URL:https://teebox.club/event/sunday-sky-bloody-sunday/2026-11-08/
LOCATION:TeeBox Indoor Golf Club\, 7100 E Cave Creek Rd Building R5\, Cave Creek\, AZ\, 85331\, United States
CATEGORIES:TeeBox Daily Specials
ORGANIZER;CN="TeeBox Indoor Golf Club":MAILTO:info@teebox.club
END:VEVENT
BEGIN:VEVENT
DTSTART;VALUE=DATE:20261109
DTEND;VALUE=DATE:20261110
DTSTAMP:20260425T090839
CREATED:20260408T232228Z
LAST-MODIFIED:20260423T000406Z
UID:10002871-1794182400-1794268799@teebox.club
SUMMARY:Monday — Margarita Monday
DESCRIPTION:$2 off margaritas
URL:https://teebox.club/event/monday-margarita-monday/2026-11-09/
LOCATION:TeeBox Indoor Golf Club\, 7100 E Cave Creek Rd Building R5\, Cave Creek\, AZ\, 85331\, United States
CATEGORIES:TeeBox Daily Specials
ORGANIZER;CN="TeeBox Indoor Golf Club":MAILTO:info@teebox.club
END:VEVENT
BEGIN:VEVENT
DTSTART;VALUE=DATE:20261110
DTEND;VALUE=DATE:20261111
DTSTAMP:20260425T090839
CREATED:20260408T232248Z
LAST-MODIFIED:20260423T000341Z
UID:10002817-1794268800-1794355199@teebox.club
SUMMARY:Tuesday — Tito’s Tuesday
DESCRIPTION:$2 off Tito’s cocktails\n$2 off nachos & wings
URL:https://teebox.club/event/tuesday-titos-tuesday/2026-11-10/
LOCATION:TeeBox Indoor Golf Club\, 7100 E Cave Creek Rd Building R5\, Cave Creek\, AZ\, 85331\, United States
CATEGORIES:TeeBox Daily Specials
ORGANIZER;CN="TeeBox Indoor Golf Club":MAILTO:info@teebox.club
END:VEVENT
BEGIN:VEVENT
DTSTART;VALUE=DATE:20261111
DTEND;VALUE=DATE:20261112
DTSTAMP:20260425T090839
CREATED:20260408T232311Z
LAST-MODIFIED:20260423T000317Z
UID:10002763-1794355200-1794441599@teebox.club
SUMMARY:Wednesday — Wine Wednesday
DESCRIPTION:$2 off house wine drafts\n$2 off pizza
URL:https://teebox.club/event/wednesday-wine-wednesday/2026-11-11/
LOCATION:TeeBox Indoor Golf Club\, 7100 E Cave Creek Rd Building R5\, Cave Creek\, AZ\, 85331\, United States
CATEGORIES:TeeBox Daily Specials
ORGANIZER;CN="TeeBox Indoor Golf Club":MAILTO:info@teebox.club
END:VEVENT
BEGIN:VEVENT
DTSTART;VALUE=DATE:20261112
DTEND;VALUE=DATE:20261113
DTSTAMP:20260425T090839
CREATED:20260408T232331Z
LAST-MODIFIED:20260423T000244Z
UID:10002709-1794441600-1794527999@teebox.club
SUMMARY:Thursday — Twisted Tea Thursday
DESCRIPTION:$5 Twisted Tea bottles\n$2 off chicken strips & fries
URL:https://teebox.club/event/thursday-twisted-tea-thursday/2026-11-12/
LOCATION:TeeBox Indoor Golf Club\, 7100 E Cave Creek Rd Building R5\, Cave Creek\, AZ\, 85331\, United States
CATEGORIES:TeeBox Daily Specials
ORGANIZER;CN="TeeBox Indoor Golf Club":MAILTO:info@teebox.club
END:VEVENT
BEGIN:VEVENT
DTSTART;VALUE=DATE:20261113
DTEND;VALUE=DATE:20261114
DTSTAMP:20260425T090839
CREATED:20260408T232350Z
LAST-MODIFIED:20260423T000200Z
UID:10002655-1794528000-1794614399@teebox.club
SUMMARY:Friday — IPA Friday
DESCRIPTION:$2 off IPA drafts\n$2 off burger menu
URL:https://teebox.club/event/friday-ipa-friday/2026-11-13/
LOCATION:TeeBox Indoor Golf Club\, 7100 E Cave Creek Rd Building R5\, Cave Creek\, AZ\, 85331\, United States
CATEGORIES:TeeBox Daily Specials
ORGANIZER;CN="TeeBox Indoor Golf Club":MAILTO:info@teebox.club
END:VEVENT
BEGIN:VEVENT
DTSTART;VALUE=DATE:20261114
DTEND;VALUE=DATE:20261115
DTSTAMP:20260425T090839
CREATED:20260408T232410Z
LAST-MODIFIED:20260423T000119Z
UID:10002601-1794614400-1794700799@teebox.club
SUMMARY:Saturday — Sippin’ Saturday
DESCRIPTION:$2 off TeeBox craft cocktails\n$2 off quesadilla
URL:https://teebox.club/event/saturday-sippin-saturday/2026-11-14/
LOCATION:TeeBox Indoor Golf Club\, 7100 E Cave Creek Rd Building R5\, Cave Creek\, AZ\, 85331\, United States
CATEGORIES:TeeBox Daily Specials
ORGANIZER;CN="TeeBox Indoor Golf Club":MAILTO:info@teebox.club
END:VEVENT
BEGIN:VEVENT
DTSTART;VALUE=DATE:20261115
DTEND;VALUE=DATE:20261116
DTSTAMP:20260425T090839
CREATED:20260408T232429Z
LAST-MODIFIED:20260423T000054Z
UID:10002547-1794700800-1794787199@teebox.club
SUMMARY:Sunday — Sky Bloody Sunday
DESCRIPTION:$2 off Skyy Bloody Marys\n$2 off Reuben & grilled cheese
URL:https://teebox.club/event/sunday-sky-bloody-sunday/2026-11-15/
LOCATION:TeeBox Indoor Golf Club\, 7100 E Cave Creek Rd Building R5\, Cave Creek\, AZ\, 85331\, United States
CATEGORIES:TeeBox Daily Specials
ORGANIZER;CN="TeeBox Indoor Golf Club":MAILTO:info@teebox.club
END:VEVENT
BEGIN:VEVENT
DTSTART;VALUE=DATE:20261116
DTEND;VALUE=DATE:20261117
DTSTAMP:20260425T090839
CREATED:20260408T232228Z
LAST-MODIFIED:20260423T000406Z
UID:10002872-1794787200-1794873599@teebox.club
SUMMARY:Monday — Margarita Monday
DESCRIPTION:$2 off margaritas
URL:https://teebox.club/event/monday-margarita-monday/2026-11-16/
LOCATION:TeeBox Indoor Golf Club\, 7100 E Cave Creek Rd Building R5\, Cave Creek\, AZ\, 85331\, United States
CATEGORIES:TeeBox Daily Specials
ORGANIZER;CN="TeeBox Indoor Golf Club":MAILTO:info@teebox.club
END:VEVENT
BEGIN:VEVENT
DTSTART;VALUE=DATE:20261117
DTEND;VALUE=DATE:20261118
DTSTAMP:20260425T090839
CREATED:20260408T232248Z
LAST-MODIFIED:20260423T000341Z
UID:10002818-1794873600-1794959999@teebox.club
SUMMARY:Tuesday — Tito’s Tuesday
DESCRIPTION:$2 off Tito’s cocktails\n$2 off nachos & wings
URL:https://teebox.club/event/tuesday-titos-tuesday/2026-11-17/
LOCATION:TeeBox Indoor Golf Club\, 7100 E Cave Creek Rd Building R5\, Cave Creek\, AZ\, 85331\, United States
CATEGORIES:TeeBox Daily Specials
ORGANIZER;CN="TeeBox Indoor Golf Club":MAILTO:info@teebox.club
END:VEVENT
BEGIN:VEVENT
DTSTART;VALUE=DATE:20261118
DTEND;VALUE=DATE:20261119
DTSTAMP:20260425T090839
CREATED:20260408T232311Z
LAST-MODIFIED:20260423T000317Z
UID:10002764-1794960000-1795046399@teebox.club
SUMMARY:Wednesday — Wine Wednesday
DESCRIPTION:$2 off house wine drafts\n$2 off pizza
URL:https://teebox.club/event/wednesday-wine-wednesday/2026-11-18/
LOCATION:TeeBox Indoor Golf Club\, 7100 E Cave Creek Rd Building R5\, Cave Creek\, AZ\, 85331\, United States
CATEGORIES:TeeBox Daily Specials
ORGANIZER;CN="TeeBox Indoor Golf Club":MAILTO:info@teebox.club
END:VEVENT
END:VCALENDAR